BEGIN:VCALENDAR
VERSION:2.0
PRODID:-//The Economic Alliance - ECPv6.11.1//NONSGML v1.0//EN
CALSCALE:GREGORIAN
METHOD:PUBLISH
X-ORIGINAL-URL:https://economic-alliance.com
X-WR-CALDESC:Events for The Economic Alliance
REFRESH-INTERVAL;VALUE=DURATION:PT1H
X-Robots-Tag:noindex
X-PUBLISHED-TTL:PT1H
BEGIN:VTIMEZONE
TZID:America/Los_Angeles
BEGIN:DAYLIGHT
TZOFFSETFROM:-0800
TZOFFSETTO:-0700
TZNAME:PDT
DTSTART:20250309T100000
END:DAYLIGHT
BEGIN:STANDARD
TZOFFSETFROM:-0700
TZOFFSETTO:-0800
TZNAME:PST
DTSTART:20251102T090000
END:STANDARD
END:VTIMEZONE
BEGIN:VEVENT
DTSTART;TZID=America/Los_Angeles:20251113T100000
DTEND;TZID=America/Los_Angeles:20251113T120000
DTSTAMP:20260424T093745
CREATED:20251026T004958Z
LAST-MODIFIED:20251026T004958Z
UID:7850-1763028000-1763035200@economic-alliance.com
SUMMARY:Intro to Canva
DESCRIPTION:Presented by Caroline Sancken\nJoin us for a hands-on series designed to help you build your brand and create content with confidence. Whether you’re just getting started or ready to level up\, each session offers practical tools and creative strategies you can use right away. We’ll cover the basics of setting up your brand portfolio\, then explore how to use Canva templates to design everything from social posts to flyers and content calendars. \n  \nSign Me Up
URL:https://economic-alliance.com/event/intro-to-canva/
LOCATION:EA Office\, 238 E Oak\, Okanogan\, WA\, 98840
ATTACH;FMTTYPE=image/png:https://economic-alliance.com/wp-content/uploads/2025/10/intro-to-canva-ig-e1761439712309.png
END:VEVENT
END:VCALENDAR