BEGIN:VCALENDAR
VERSION:2.0
PRODID:-//The Economic Alliance - ECPv6.11.1//NONSGML v1.0//EN
CALSCALE:GREGORIAN
METHOD:PUBLISH
X-ORIGINAL-URL:https://economic-alliance.com
X-WR-CALDESC:Events for The Economic Alliance
REFRESH-INTERVAL;VALUE=DURATION:PT1H
X-Robots-Tag:noindex
X-PUBLISHED-TTL:PT1H
BEGIN:VTIMEZONE
TZID:America/Los_Angeles
BEGIN:DAYLIGHT
TZOFFSETFROM:-0800
TZOFFSETTO:-0700
TZNAME:PDT
DTSTART:20250309T100000
END:DAYLIGHT
BEGIN:STANDARD
TZOFFSETFROM:-0700
TZOFFSETTO:-0800
TZNAME:PST
DTSTART:20251102T090000
END:STANDARD
END:VTIMEZONE
BEGIN:VEVENT
DTSTART;TZID=America/Los_Angeles:20250605T100000
DTEND;TZID=America/Los_Angeles:20250605T120000
DTSTAMP:20260424T170351
CREATED:20250325T222704Z
LAST-MODIFIED:20250325T223607Z
UID:7582-1749117600-1749124800@economic-alliance.com
SUMMARY:Choosing the Right Online Selling Platform
DESCRIPTION:What You’ll Learn: \n\nWe will Provide an overview of top platforms including Etsy\, Shopify\, and Facebook Marketplace.\nHighlight the pros and cons of each platform based on product type\, business size\, and target audience.\nIntroduce the concept of multi-channel selling for maximizing exposure and revenue.\n\nJoin us for this short course with Rachelle Baughman of Coulee Creative Co. Offered at no cost. Class will be held June 5th from 10am-12pm in the Economic Alliance office. \n\n\n\n\n\n\nRegister today at https://ow.ly/Mv5P50Voxk2
URL:https://economic-alliance.com/event/choosing/
LOCATION:EA Office\, 238 E Oak\, Okanogan\, WA\, 98840
ATTACH;FMTTYPE=image/jpeg:https://economic-alliance.com/wp-content/uploads/2025/03/Choosing-the-Right-Online-Selling-Platform-1.jpg
END:VEVENT
END:VCALENDAR