BEGIN:VCALENDAR
VERSION:2.0
PRODID:-//The Economic Alliance - ECPv6.11.1//NONSGML v1.0//EN
CALSCALE:GREGORIAN
METHOD:PUBLISH
X-WR-CALNAME:The Economic Alliance
X-ORIGINAL-URL:https://economic-alliance.com
X-WR-CALDESC:Events for The Economic Alliance
REFRESH-INTERVAL;VALUE=DURATION:PT1H
X-Robots-Tag:noindex
X-PUBLISHED-TTL:PT1H
BEGIN:VTIMEZONE
TZID:America/Los_Angeles
BEGIN:DAYLIGHT
TZOFFSETFROM:-0800
TZOFFSETTO:-0700
TZNAME:PDT
DTSTART:20240310T100000
END:DAYLIGHT
BEGIN:STANDARD
TZOFFSETFROM:-0700
TZOFFSETTO:-0800
TZNAME:PST
DTSTART:20241103T090000
END:STANDARD
END:VTIMEZONE
BEGIN:VEVENT
DTSTART;TZID=America/Los_Angeles:20241106T090000
DTEND;TZID=America/Los_Angeles:20241106T110000
DTSTAMP:20260425T034232
CREATED:20241015T212750Z
LAST-MODIFIED:20241015T212750Z
UID:7459-1730883600-1730890800@economic-alliance.com
SUMMARY:Pricing Power: Maximize Profit
DESCRIPTION:Unlock your pricing potential! Join us for this upcoming training session on pricing strategies! Boost your profits and drive your small business successes! \nThe Economic Alliance will present this educational workshop on Pricing – learn about the factors to consider when setting a price and how to avoid being overwhelmed by all the options. We can’t pick a price for you\, but we can put you on the right path to starting your pricing journey. \nRegistration Required\, Register today!
URL:https://economic-alliance.com/event/pricing-power-maximize-profit/
LOCATION:EA Office\, 238 E Oak\, Okanogan\, WA\, 98840
ATTACH;FMTTYPE=image/jpeg:https://economic-alliance.com/wp-content/uploads/2024/10/Pricing-Workshop.jpg
END:VEVENT
BEGIN:VEVENT
DTSTART;TZID=America/Los_Angeles:20241106T130000
DTEND;TZID=America/Los_Angeles:20241106T150000
DTSTAMP:20260425T034232
CREATED:20241015T213052Z
LAST-MODIFIED:20241015T213052Z
UID:7466-1730898000-1730905200@economic-alliance.com
SUMMARY:Pricing Power: Maximize Profit-Spanish
DESCRIPTION:¡Desbloquee su potencial de precios! ¡Únase a nosotros en esta próxima sesión de capacitación sobre estrategias de precios! ¡Aumenta tus ganancias e impulsa el éxito de tu pequeña empresa! \nLa Alianza Económica presentará este taller educativo sobre Precios: conozca los factores a considerar al fijar un precio y cómo evitar sentirse abrumado por todas las opciones. No podemos elegir un precio para usted\, pero podemos ubicarlo en el camino correcto para comenzar su proceso de fijación de precios. \nEs necesario registrarse\, ¡regístrese hoy!
URL:https://economic-alliance.com/event/pricing-power-maximize-profit-spanish/
LOCATION:EA Office\, 238 E Oak\, Okanogan\, WA\, 98840
ATTACH;FMTTYPE=image/jpeg:https://economic-alliance.com/wp-content/uploads/2024/10/Pricing-Workshop-1.jpg
END:VEVENT
BEGIN:VEVENT
DTSTART;TZID=America/Los_Angeles:20241112T130000
DTEND;TZID=America/Los_Angeles:20241112T143000
DTSTAMP:20260425T034232
CREATED:20241016T154726Z
LAST-MODIFIED:20241016T154726Z
UID:7468-1731416400-1731421800@economic-alliance.com
SUMMARY:Mainstreet 101 Workshop
DESCRIPTION:The Main Street Approach is an inclusive\, impact-driven strategy used to reenergize and strengthen older and historic downtowns nationwide. The Washington State Main Street Program supports a network of over 70 towns and cities in place-based economic and community development\, because our unique places are our greatest assets. At the Economic Alliance’s invitation\, Washington Main Street staff will be visiting Omak to share about the Main Street Approach and brainstorm how it could be used across Okanogan County. \nSign up here today!
URL:https://economic-alliance.com/event/mainstreet-101-workshop/
LOCATION:Community Foundation of Ncw\, 715A Okoma Drive\, Omak\, WA\, 98841\, United States
ATTACH;FMTTYPE=image/jpeg:https://economic-alliance.com/wp-content/uploads/2024/10/Okanogan-Main-Street-Outreach.jpg
END:VEVENT
END:VCALENDAR