BEGIN:VCALENDAR
VERSION:2.0
PRODID:-//The Economic Alliance - ECPv6.11.1//NONSGML v1.0//EN
CALSCALE:GREGORIAN
METHOD:PUBLISH
X-WR-CALNAME:The Economic Alliance
X-ORIGINAL-URL:https://economic-alliance.com
X-WR-CALDESC:Events for The Economic Alliance
REFRESH-INTERVAL;VALUE=DURATION:PT1H
X-Robots-Tag:noindex
X-PUBLISHED-TTL:PT1H
BEGIN:VTIMEZONE
TZID:America/Los_Angeles
BEGIN:DAYLIGHT
TZOFFSETFROM:-0800
TZOFFSETTO:-0700
TZNAME:PDT
DTSTART:20240310T100000
END:DAYLIGHT
BEGIN:STANDARD
TZOFFSETFROM:-0700
TZOFFSETTO:-0800
TZNAME:PST
DTSTART:20241103T090000
END:STANDARD
END:VTIMEZONE
BEGIN:VEVENT
DTSTART;TZID=America/Los_Angeles:20240911T083000
DTEND;TZID=America/Los_Angeles:20240911T103000
DTSTAMP:20260425T090203
CREATED:20240904T213931Z
LAST-MODIFIED:20240905T204017Z
UID:7429-1726043400-1726050600@economic-alliance.com
SUMMARY:Overview of SBA Loan Programs
DESCRIPTION:A Community-Centered Convening with Federal & State Partners and Key Community Leaders to Talk About Federal & State Programs to Help Grow Okanogan County. \nRSVP Required\, Register today!
URL:https://economic-alliance.com/event/okanogan-county-thriving-communities/
LOCATION:12 Tribes Casino Hotel\, Omak\, WA\, 28968 US-97\, Omak\, WA\, 98841
ATTACH;FMTTYPE=image/jpeg:https://economic-alliance.com/wp-content/uploads/2024/09/Overview-of-SBA-loan-programs-including-Microloans-Commercial-Real-Estate-Working-Capital-and-more-The-Five-Cs-of-Credit-what-is-a-lender-looking-for-How-to-find-an-SBA-approved-lender-near-yo-2.jpg
END:VEVENT
BEGIN:VEVENT
DTSTART;TZID=America/Los_Angeles:20240911T170000
DTEND;TZID=America/Los_Angeles:20240911T190000
DTSTAMP:20260425T090203
CREATED:20240904T212122Z
LAST-MODIFIED:20240904T212619Z
UID:7425-1726074000-1726081200@economic-alliance.com
SUMMARY:Start Simple: Spanish Version
DESCRIPTION:This co-hort will be offered specifically to our Spanish speaking community. \nLearn basic business concepts and figure out if your business goals are realistic and achievable. Start with this 4week course (2hrs/week) and then move on to one on one counseling. Offered at no cost. Classes will be held on Wednesdays starting: September 11th\, 18th\, 25th and October 2nd from 5-7 in Brewster\, WA. \n\n\n\n\n\n\nRegister today at https://form.jotform.com/rholderdiefenbach/spanish-start-simple-business-train
URL:https://economic-alliance.com/event/start-simple-spanish-version/
ATTACH;FMTTYPE=image/jpeg:https://economic-alliance.com/wp-content/uploads/2024/09/Economic-Alliance-Copy-of-Start-Simple-Half-size-3.jpg
END:VEVENT
BEGIN:VEVENT
DTSTART;TZID=America/Los_Angeles:20240917T090000
DTEND;TZID=America/Los_Angeles:20240917T110000
DTSTAMP:20260425T090203
CREATED:20240826T231809Z
LAST-MODIFIED:20240826T231809Z
UID:7403-1726563600-1726570800@economic-alliance.com
SUMMARY:Tax Planning & Updates for Small Businesses
DESCRIPTION:Presentations from CNC Financial Group LLC: \nKyle Meissner\, CPA\, Financial Advisor Member & Charlie Miracle\, CPA\, Financial Advisor\, Member \nTopics Covered: \n\nTCJA Provisions Sunsetting\nBusiness Asset Depreciation\nEstate Planning considerations for business owners\nConsiderations for Entity Type\nRetirement Planning For Business owners\nTax on sale of businesses\nDeductions for business owners\nAccounting software choices\nPayroll Tax Considerations\n\nRSVP Required\, Register today!
URL:https://economic-alliance.com/event/tax-planning-updates-for-small-businesses/
LOCATION:12 Tribes Casino Hotel\, Omak\, WA\, 28968 US-97\, Omak\, WA\, 98841
ATTACH;FMTTYPE=image/png:https://economic-alliance.com/wp-content/uploads/2024/08/Tax-Workshop-e1724714239866.png
END:VEVENT
BEGIN:VEVENT
DTSTART;TZID=America/Los_Angeles:20240919T170000
DTEND;TZID=America/Los_Angeles:20240919T190000
DTSTAMP:20260425T090203
CREATED:20240820T183337Z
LAST-MODIFIED:20240820T183337Z
UID:7395-1726765200-1726772400@economic-alliance.com
SUMMARY:Start Simple
DESCRIPTION:Have a Business Idea? Let’s make it happen!\n\n\n\nLearn basic business concepts and figure out if your business goals are realistic and achievable.  Join us on September 19th\, 26th\, October 3rd\, and 10th from 5-7 PM for this 4-week basic business training course at our office located at 238 E. Oak\, Okanogan\, WA\n\n\n\nRegister today at https://ow.ly/1bOw50SYVL0
URL:https://economic-alliance.com/event/start-simple/
LOCATION:EA Office\, 238 E Oak\, Okanogan\, WA\, 98840
ATTACH;FMTTYPE=image/jpeg:https://economic-alliance.com/wp-content/uploads/2024/08/Sept-Start-Simple-Flyer.jpg
END:VEVENT
END:VCALENDAR