BEGIN:VCALENDAR
VERSION:2.0
PRODID:-//The Economic Alliance - ECPv6.11.1//NONSGML v1.0//EN
CALSCALE:GREGORIAN
METHOD:PUBLISH
X-ORIGINAL-URL:https://economic-alliance.com
X-WR-CALDESC:Events for The Economic Alliance
REFRESH-INTERVAL;VALUE=DURATION:PT1H
X-Robots-Tag:noindex
X-PUBLISHED-TTL:PT1H
BEGIN:VTIMEZONE
TZID:America/Los_Angeles
BEGIN:DAYLIGHT
TZOFFSETFROM:-0800
TZOFFSETTO:-0700
TZNAME:PDT
DTSTART:20240310T100000
END:DAYLIGHT
BEGIN:STANDARD
TZOFFSETFROM:-0700
TZOFFSETTO:-0800
TZNAME:PST
DTSTART:20241103T090000
END:STANDARD
END:VTIMEZONE
BEGIN:VEVENT
DTSTART;TZID=America/Los_Angeles:20240502T170000
DTEND;TZID=America/Los_Angeles:20240502T190000
DTSTAMP:20260425T155922
CREATED:20240408T202920Z
LAST-MODIFIED:20240410T223810Z
UID:7378-1714669200-1714676400@economic-alliance.com
SUMMARY:Start Simple Business Training Course
DESCRIPTION:Have a Business Idea?  Let’s make it happen!   \nLearn basic business concepts and figure out if your business goals are realistic and achievable.  Start with this 4week course (2hrs/week) and then move on to one on one counseling.  Offered at no cost.  Classes will be held on Thursdays in May: May 2nd\, May 9th\, May 16th and May 23rd from 5-7 at the Economic Alliance office and can be offered via zoom if needed. \nSign up today at https://form.jotform.com/rholderdiefenbach/2024-start-simple-business-training! \n 
URL:https://economic-alliance.com/event/start-simple-business-training-course/
LOCATION:EA Office\, 238 E Oak\, Okanogan\, WA\, 98840
ATTACH;FMTTYPE=image/jpeg:https://economic-alliance.com/wp-content/uploads/2024/04/Economic-Alliance-Copy-of-Start-Simple-Half-size-1.jpg
END:VEVENT
BEGIN:VEVENT
DTSTART;TZID=America/Los_Angeles:20240508T090000
DTEND;TZID=America/Los_Angeles:20240508T140000
DTSTAMP:20260425T155922
CREATED:20240306T201354Z
LAST-MODIFIED:20240306T201401Z
UID:7338-1715158800-1715176800@economic-alliance.com
SUMMARY:Strategic Planning Skills
DESCRIPTION:Use goal setting and task planning to develop a strategic plan for your business or project. \nRegister today at https://form.jotform.com/rholderdiefenbach/strategic-planning-skills
URL:https://economic-alliance.com/event/strategic-planning-skills/
LOCATION:EA Office\, 238 E Oak\, Okanogan\, WA\, 98840
ATTACH;FMTTYPE=image/jpeg:https://economic-alliance.com/wp-content/uploads/2024/03/5.jpg
END:VEVENT
BEGIN:VEVENT
DTSTART;TZID=America/Los_Angeles:20240513T130000
DTEND;TZID=America/Los_Angeles:20240513T160000
DTSTAMP:20260425T155922
CREATED:20240306T202227Z
LAST-MODIFIED:20240408T202234Z
UID:7341-1715605200-1715616000@economic-alliance.com
SUMMARY:OMWBE Certification and Intro to Government Contracting
DESCRIPTION:Are you a small business owner interested in learning about Contracting with the State or Federal Government?  Then this is the training for you!  The Intro to Government Contracting training will give you a basic overview on what a business needs to do to be eligible to apply for these contracts.  If you are a Woman Owned or Minority Owned business the OMWBE Certification training will step you through the process of how to get certified\, and what that certification can do for your business. \nRegister today for this event:  https://form.jotform.com/rholderdiefenbach/omwbe-certification–intro-to-gover
URL:https://economic-alliance.com/event/omwbe-certification-and-intro-to-government-contracting/
LOCATION:EA Office\, 238 E Oak\, Okanogan\, WA\, 98840
ATTACH;FMTTYPE=image/jpeg:https://economic-alliance.com/wp-content/uploads/2024/04/PTAC-Workshop-May-13-2024-scaled.jpg
END:VEVENT
END:VCALENDAR