BEGIN:VCALENDAR
VERSION:2.0
PRODID:-//The Economic Alliance - ECPv6.11.1//NONSGML v1.0//EN
CALSCALE:GREGORIAN
METHOD:PUBLISH
X-WR-CALNAME:The Economic Alliance
X-ORIGINAL-URL:https://economic-alliance.com
X-WR-CALDESC:Events for The Economic Alliance
REFRESH-INTERVAL;VALUE=DURATION:PT1H
X-Robots-Tag:noindex
X-PUBLISHED-TTL:PT1H
BEGIN:VTIMEZONE
TZID:America/Los_Angeles
BEGIN:DAYLIGHT
TZOFFSETFROM:-0800
TZOFFSETTO:-0700
TZNAME:PDT
DTSTART:20210314T100000
END:DAYLIGHT
BEGIN:STANDARD
TZOFFSETFROM:-0700
TZOFFSETTO:-0800
TZNAME:PST
DTSTART:20211107T090000
END:STANDARD
BEGIN:DAYLIGHT
TZOFFSETFROM:-0800
TZOFFSETTO:-0700
TZNAME:PDT
DTSTART:20220313T100000
END:DAYLIGHT
BEGIN:STANDARD
TZOFFSETFROM:-0700
TZOFFSETTO:-0800
TZNAME:PST
DTSTART:20221106T090000
END:STANDARD
END:VTIMEZONE
BEGIN:VEVENT
DTSTART;TZID=America/Los_Angeles:20220322T090000
DTEND;TZID=America/Los_Angeles:20220322T120000
DTSTAMP:20260425T075331
CREATED:20220219T005623Z
LAST-MODIFIED:20220225T190714Z
UID:6852-1647939600-1647950400@economic-alliance.com
SUMMARY:Pricing Your Product
DESCRIPTION:Do you make awesome hand-crafted items\, but you’re not sure how to price your items? Making a profit is vital to any business – but figuring out how to properly price your items can be hard! This workshop will provide different methods that you can use to determine a fair price and ensure that you are making a profit! \n  \n¿Haces artículos increíbles hechos a mano\, pero no estás seguro de cómo fijar el precio de tus artículos? Obtener ganancias es vital para cualquier negocio\, ¡pero descubrir cómo fijar el precio adecuado de sus artículos puede ser difícil! ¡Este taller proporcionará diferentes métodos que puede usar para determinar un precio justo y asegurarse de que está obteniendo ganancias!
URL:https://economic-alliance.com/event/pricing-your-product/
LOCATION:EA Office\, 238 E Oak\, Okanogan\, WA\, 98840
ATTACH;FMTTYPE=image/jpeg:https://economic-alliance.com/wp-content/uploads/2022/02/sbrtc-march.jpg
END:VEVENT
BEGIN:VEVENT
DTSTART;TZID=America/Los_Angeles:20220315T090000
DTEND;TZID=America/Los_Angeles:20220315T120000
DTSTAMP:20260425T075331
CREATED:20220219T005413Z
LAST-MODIFIED:20220225T190637Z
UID:6850-1647334800-1647345600@economic-alliance.com
SUMMARY:Instagram for Beginners
DESCRIPTION:Instagram. Yes\, another Social Media platform. Get to know more about Instagram\, who’s on it\, if you should be\, how to get started\, how to grow followers – and how to use it for your business! \n  \nInstagram. Sí\, otra plataforma de redes sociales. Conozca más sobre Instagram\, quién está en él\, si debiera estar en él\, cómo comenzar\, cómo aumentar los seguidores y cómo usarlo para su negocio.
URL:https://economic-alliance.com/event/instagram-for-beginners/
LOCATION:EA Office\, 238 E Oak\, Okanogan\, WA\, 98840
ATTACH;FMTTYPE=image/jpeg:https://economic-alliance.com/wp-content/uploads/2022/02/sbrtc-march.jpg
END:VEVENT
BEGIN:VEVENT
DTSTART;TZID=America/Los_Angeles:20220301T090000
DTEND;TZID=America/Los_Angeles:20220301T120000
DTSTAMP:20260425T075331
CREATED:20220219T005128Z
LAST-MODIFIED:20220225T190533Z
UID:6847-1646125200-1646136000@economic-alliance.com
SUMMARY:Time Management
DESCRIPTION:You have a business\, you’re trying to balance marketing\, customer service\, administrative tasks\, home/family\, and other obligations… that’s a lot to juggle! This workshop will be full of tips\, tricks\, and advice on ways to organize yourself\, workday\, and as they say – work smarter not harder! \nIf additional or more in-depth assistance is needed\, individual appointments can be made to walk through each step and get your site online. \n  \nTienes un negocio\, estás tratando de equilibrar el mercadeo\, el servicio al cliente\, las tareas administrativas\, el hogar /la familia y otras obligaciones … ¡eso es mucho para hacer malabares! Este taller estará lleno de consejos\, trucos y consejos sobre formas de organizarse\, la jornada laboral y\, como dicen\, ¡trabaje de manera más inteligente\, no más difícil!\nSi se necesita asistencia adicional o más profunda\, se pueden hacer citas individuales para recorrer cada paso y obtener su sitio en línea.
URL:https://economic-alliance.com/event/time-management/
LOCATION:EA Office\, 238 E Oak\, Okanogan\, WA\, 98840
ATTACH;FMTTYPE=image/jpeg:https://economic-alliance.com/wp-content/uploads/2022/02/sbrtc-march.jpg
END:VEVENT
BEGIN:VEVENT
DTSTART;TZID=America/Los_Angeles:20220222T090000
DTEND;TZID=America/Los_Angeles:20220222T120000
DTSTAMP:20260425T075331
CREATED:20220118T233701Z
LAST-MODIFIED:20220119T010212Z
UID:6837-1645520400-1645531200@economic-alliance.com
SUMMARY:Email Marketing Basics
DESCRIPTION:Email marketing is a form of marketing that can make customers aware of new products\, discounts\, and other services. It can also be a softer sell to educate your audience on the value of your brand or keep them engaged between purchases. It can also be anything in between. When you want to grow your brand or sell your stuff\, email marketing is one of the most popular—and effective—tools around for marketing campaigns. In this workshop\, we’ll discuss how email marketing – and the usage of promotional emails – can help you to grow your business\, and we’ll give you a few tips to help you get started with a successful email marketing campaign.
URL:https://economic-alliance.com/event/email-marketing-basics/
LOCATION:EA Office\, 238 E Oak\, Okanogan\, WA\, 98840
ATTACH;FMTTYPE=image/jpeg:https://economic-alliance.com/wp-content/uploads/2022/01/WORKSHOP-FLYER-FEB-22-scaled.jpg
END:VEVENT
BEGIN:VEVENT
DTSTART;TZID=America/Los_Angeles:20220215T090000
DTEND;TZID=America/Los_Angeles:20220215T120000
DTSTAMP:20260425T075331
CREATED:20220118T233206Z
LAST-MODIFIED:20220118T233413Z
UID:6834-1644915600-1644926400@economic-alliance.com
SUMMARY:Create your own Esty Shop
DESCRIPTION:Would an Etsy shop benefit your startup or small business\, but you’re not sure where to start? Etsy is a wildly popular platform that is a great option for folks that may be looking to add an online channel to a current business\, or\, for a small outfit that’s not quite ready for a physical storefront. \nWe will give you all the information you need to determine if Etsy is a good platform for you\, as well as the basics to get your shop active online. \nPlease be advised\, there are costs associated when having an Etsy shop – we will review those as part of the workshop \nIf additional or more in-depth assistance is needed\, individual appointments can be made to walk through each step and get your shop online.
URL:https://economic-alliance.com/event/create-your-own-esty-shop/
LOCATION:EA Office\, 238 E Oak\, Okanogan\, WA\, 98840
ATTACH;FMTTYPE=image/jpeg:https://economic-alliance.com/wp-content/uploads/2022/01/Feb-Workshops-Flyer.jpg
END:VEVENT
BEGIN:VEVENT
DTSTART;TZID=America/Los_Angeles:20220208T090000
DTEND;TZID=America/Los_Angeles:20220208T120000
DTSTAMP:20260425T075331
CREATED:20220118T225759Z
LAST-MODIFIED:20220118T233440Z
UID:6832-1644310800-1644321600@economic-alliance.com
SUMMARY:Create your own Ecommerce shop on Shopify
DESCRIPTION:Do you currently have a brick-and-mortar store? Are you ready to take the next step and create an online storefront as well? \nShopify is a one-stop eCommerce platform that is easy to set up and a great option to compliment your physical storefront. In this workshop\, we will cover topics like domain names\, email and social media marketing\, analytics\, how to add products\, adding photos/media to your listings – and much more \nIf additional or more in-depth assistance is needed\, individual appointments can be made to walk through each step and get your site online.
URL:https://economic-alliance.com/event/create-your-own-ecommerce-shop-on-shopify-2/
LOCATION:EA Office\, 238 E Oak\, Okanogan\, WA\, 98840
ATTACH;FMTTYPE=image/jpeg:https://economic-alliance.com/wp-content/uploads/2022/01/Feb-Workshops-Flyer.jpg
END:VEVENT
BEGIN:VEVENT
DTSTART;TZID=America/Los_Angeles:20220201T090000
DTEND;TZID=America/Los_Angeles:20220201T120000
DTSTAMP:20260425T075331
CREATED:20220118T225406Z
LAST-MODIFIED:20220118T233507Z
UID:6830-1643706000-1643716800@economic-alliance.com
SUMMARY:Create your own website on WordPress
DESCRIPTION:Would a website benefit your startup or small business\, but you’re not sure where to start? WordPress is a popular platform that makes it easy to create your very own website. \nWe will give you all the information you need to determine if WordPress is the platform for you\, as well as the basics to get your website from concept to completion. \nPlease be advised\, there are costs associated with website hosting\, and WordPress does offer a free trial\, but there are continuing costs for both. \nIf additional or more in-depth assistance is needed\, individual appointments can be made to walk through each step and get your site online.
URL:https://economic-alliance.com/event/create-your-own-website-on-wordpress-2/
LOCATION:EA Office\, 238 E Oak\, Okanogan\, WA\, 98840
ATTACH;FMTTYPE=image/jpeg:https://economic-alliance.com/wp-content/uploads/2022/01/Feb-Workshops-Flyer.jpg
END:VEVENT
BEGIN:VEVENT
DTSTART;TZID=America/Los_Angeles:20220125T090000
DTEND;TZID=America/Los_Angeles:20220125T090000
DTSTAMP:20260425T075331
CREATED:20211215T233834Z
LAST-MODIFIED:20211215T233951Z
UID:6810-1643101200-1643101200@economic-alliance.com
SUMMARY:Building Your Brand
DESCRIPTION:Format: Hybrid\, up to 4 people in our offices\, additional participants via Zoom \nLocation: Office 238 E Oak\, Okanogan\, WA 98840 \nDescription: You have a business idea\, you’re trying to find your voice\, build a brand that people recognize and gravitate to. A brand is more than just a company logo or slogan. It’s how people feel when they see your logo or hear your name. \nBranding is the most powerful marketing tool in the world. For individuals and businesses alike\, establishing your brand can the difference between success\, mediocrity\, and failure. \nREGISTRATION: https://www.eventbrite.com/e/workshop-building-a-brand-tickets-228457692107
URL:https://economic-alliance.com/event/building-your-brand/
LOCATION:EA Office\, 238 E Oak\, Okanogan\, WA\, 98840
ATTACH;FMTTYPE=image/jpeg:https://economic-alliance.com/wp-content/uploads/2021/12/WORKSHOP-FLYER-JAN-22-scaled.jpg
END:VEVENT
BEGIN:VEVENT
DTSTART;TZID=America/Los_Angeles:20220118T090000
DTEND;TZID=America/Los_Angeles:20220118T120000
DTSTAMP:20260425T075331
CREATED:20211215T233535Z
LAST-MODIFIED:20211215T233548Z
UID:6807-1642496400-1642507200@economic-alliance.com
SUMMARY:Social Media 101
DESCRIPTION:Format: Hybrid\, up to 4 people in our offices\, additional participants via Zoom \nLocation: Office 238 E Oak\, Okanogan\, WA 98840 \nDescription: Does social media confuse you? Not sure which platforms would be useful for your business? \nSocial Media is a HUGE and constantly changing space\, some platforms are more popular with certain age groups than others\, and it can easily get overwhelming. This workshop will cover some useful statistics\, determining who your customer is – and which social media platforms could be the best for your business. We will also review types of posts\, tools for time management\, the anatomy of a post\, the importance of engagement\, and how to add value rather than seeming spammy. \nIf additional or more in-depth assistance is needed\, individual appointments can be made to walk through each step and get you online. \nREGISTRATION: https://www.eventbrite.com/e/workshop-social-media-101-tickets-228447130517
URL:https://economic-alliance.com/event/social-media-101/
LOCATION:EA Office\, 238 E Oak\, Okanogan\, WA\, 98840
ATTACH;FMTTYPE=image/jpeg:https://economic-alliance.com/wp-content/uploads/2021/12/WORKSHOP-FLYER-JAN-22-scaled.jpg
END:VEVENT
BEGIN:VEVENT
DTSTART;TZID=America/Los_Angeles:20220111T090000
DTEND;TZID=America/Los_Angeles:20220111T120000
DTSTAMP:20260425T075331
CREATED:20211215T233134Z
LAST-MODIFIED:20211215T233134Z
UID:6805-1641891600-1641902400@economic-alliance.com
SUMMARY:Facebook For Your Business
DESCRIPTION:Time: 9:00am – 12:00pm \nFormat: ZOOM ONLY \nLocation: Office 238 E Oak\, Okanogan\, WA 98840 \nDescription: Do you have a personal Facebook page? \nHave you thought about or started a Business Page on Facebook – and you’re not sure what to do now? \nThis workshop will cover everything from advice on creating your brand\, how to make a visually appealing page\, how to create engaging content\, Facebook Marketing intro\, and Ads on Facebook \nIf additional or more in-depth assistance is needed\, individual appointments can be made to walk through each step and get your page online. \nREGISTRATION: https://www.eventbrite.com/e/facebook-for-your-business-tickets-228444653107
URL:https://economic-alliance.com/event/facebook-for-your-business/
LOCATION:EA Office\, 238 E Oak\, Okanogan\, WA\, 98840
ATTACH;FMTTYPE=image/jpeg:https://economic-alliance.com/wp-content/uploads/2021/12/WORKSHOP-FLYER-JAN-22-scaled.jpg
END:VEVENT
BEGIN:VEVENT
DTSTART;TZID=America/Los_Angeles:20220104T090000
DTEND;TZID=America/Los_Angeles:20220104T103000
DTSTAMP:20260425T075331
CREATED:20211215T232716Z
LAST-MODIFIED:20211215T232905Z
UID:6802-1641286800-1641292200@economic-alliance.com
SUMMARY:Time Management 101
DESCRIPTION:Format: Hybrid\, up to 4 people in our offices\, additional participants via Zoom \nLocation: Office 238 E Oak\, Okanogan\, WA 98840 \nDescription: You have a business\, you’re trying to balance marketing\, customer service\, administrative tasks\, home/family\, and other obligations… that’s a lot to juggle! This workshop will be full of tips\, tricks\, and advice on ways to organize yourself\, workday\, and as they say – work smarter not harder! \nIf additional or more in-depth assistance is needed\, individual appointments can be made to walk through each step and get you organized. \nREGISTRATION: https://www.eventbrite.com/e/time-management-101-tickets-228439487657
URL:https://economic-alliance.com/event/time-management-101/
LOCATION:EA Office\, 238 E Oak\, Okanogan\, WA\, 98840
ATTACH;FMTTYPE=image/jpeg:https://economic-alliance.com/wp-content/uploads/2021/12/WORKSHOP-FLYER-JAN-22-scaled.jpg
END:VEVENT
BEGIN:VEVENT
DTSTART;TZID=America/Los_Angeles:20211228T090000
DTEND;TZID=America/Los_Angeles:20211228T130000
DTSTAMP:20260425T075331
CREATED:20211215T193604Z
LAST-MODIFIED:20211215T220147Z
UID:6798-1640682000-1640696400@economic-alliance.com
SUMMARY:Create your own website on WordPress
DESCRIPTION:Format: Hybrid\, up to 4 people in our offices\, additional participants via Zoom \nLocation: Office 238 E Oak\, Okanogan\, WA 98840 \nDescription: Would a website benefit your startup or small business\, but you’re not sure where to start? WordPress is a popular platform that makes it easy to create your very own website. \nWe will give you all the information you need to determine if WordPress is the platform for you\, as well as the basics to get your website from concept to completion. \nPlease be advised\, there are costs associated with website hosting\, and WordPress does offer a free trial\, but there are continuing costs for both. \nIf additional or more in-depth assistance is needed\, individual appointments can be made to walk through each step and get your site online. \nREGISTRATION: https://www.eventbrite.com/e/214207950747
URL:https://economic-alliance.com/event/create-your-own-website-on-wordpress/
LOCATION:EA Office\, 238 E Oak\, Okanogan\, WA\, 98840
ATTACH;FMTTYPE=image/jpeg:https://economic-alliance.com/wp-content/uploads/2021/12/WORKSHOP-FLYER-DEC-21-scaled.jpg
END:VEVENT
BEGIN:VEVENT
DTSTART;TZID=America/Los_Angeles:20211221T090000
DTEND;TZID=America/Los_Angeles:20211221T130000
DTSTAMP:20260425T075331
CREATED:20211215T192700Z
LAST-MODIFIED:20211215T193045Z
UID:6779-1640077200-1640091600@economic-alliance.com
SUMMARY:Create your own Ecommerce shop on Shopify
DESCRIPTION:Format: Hybrid\, up to 4 people in our offices\, additional participants via Zoom \nLocation: Office 238 E Oak\, Okanogan\, WA 98840 \nDescription: Do you currently have a brick-and-mortar store? Are you ready to take the next step and create an online storefront as well? \nShopify is a one-stop eCommerce platform that is easy to set up and a great option to compliment your physical storefront. In this workshop\, we will cover topics like domain names\, email and social media marketing\, analytics\, how to add products\, adding photos/media to your listings – and much more \nIf additional or more in-depth assistance is needed\, individual appointments can be made to walk through each step and get your site online. \nREGISTRATION: https://www.eventbrite.com/e/214221731967
URL:https://economic-alliance.com/event/create-your-own-ecommerce-shop-on-shopify/
LOCATION:EA Office\, 238 E Oak\, Okanogan\, WA\, 98840
ATTACH;FMTTYPE=application/pdf:https://economic-alliance.com/wp-content/uploads/2021/12/WORKSHOP-FLYER-DEC-21.pdf
END:VEVENT
BEGIN:VEVENT
DTSTART;TZID=America/Los_Angeles:20211123T090000
DTEND;TZID=America/Los_Angeles:20211123T150000
DTSTAMP:20260425T075331
CREATED:20211112T005033Z
LAST-MODIFIED:20211112T005033Z
UID:6705-1637658000-1637679600@economic-alliance.com
SUMMARY:Facebook Workshop – Create your own business page
DESCRIPTION:
URL:https://economic-alliance.com/event/facebook-workshop-create-your-own-business-page/
LOCATION:WA
END:VEVENT
BEGIN:VEVENT
DTSTART;TZID=America/Los_Angeles:20211116T090000
DTEND;TZID=America/Los_Angeles:20211116T150000
DTSTAMP:20260425T075331
CREATED:20211112T004925Z
LAST-MODIFIED:20211112T004925Z
UID:6703-1637053200-1637074800@economic-alliance.com
SUMMARY:Etsy workshop – Create your own Etsy shop
DESCRIPTION:
URL:https://economic-alliance.com/event/etsy-workshop-create-your-own-etsy-shop/
LOCATION:WA
END:VEVENT
BEGIN:VEVENT
DTSTART;TZID=America/Los_Angeles:20211109T090000
DTEND;TZID=America/Los_Angeles:20211109T150000
DTSTAMP:20260425T075331
CREATED:20211112T004753Z
LAST-MODIFIED:20211112T004753Z
UID:6701-1636448400-1636470000@economic-alliance.com
SUMMARY:WordPress workshop – Build your own website!
DESCRIPTION:
URL:https://economic-alliance.com/event/wordpress-workshop-build-your-own-website/
LOCATION:WA
END:VEVENT
BEGIN:VEVENT
DTSTART;TZID=America/Los_Angeles:20211101T100000
DTEND;TZID=America/Los_Angeles:20211101T130000
DTSTAMP:20260425T075331
CREATED:20211112T002118Z
LAST-MODIFIED:20211112T002638Z
UID:6690-1635760800-1635771600@economic-alliance.com
SUMMARY:Economic Alliance's Grand Re-Opening
DESCRIPTION:Press Release 9.28.21 - Reopen Event.docx
URL:https://economic-alliance.com/event/economic-alliances-grand-re-opening/
LOCATION:WA
END:VEVENT
BEGIN:VEVENT
DTSTART;TZID=America/Los_Angeles:20210630T100000
DTEND;TZID=America/Los_Angeles:20210630T110000
DTSTAMP:20260425T075331
CREATED:20210621T221252Z
LAST-MODIFIED:20210621T221252Z
UID:6040-1625047200-1625050800@economic-alliance.com
SUMMARY:Spanish Event: Free Training - E-Tail Strategies
DESCRIPTION:Have you considered expanding your business to include an online presence but don’t really know how to get started?  Join us for FREE virtual training to learn how!  Starting at 10 AM on June 30th for this free virtual training.  This training will also be offered in English on June 24th \n  \nThe Okanogan County Economic Alliance has partnered with Retail Strategies to provide Small Business Support training for our local merchants and entrepreneurs.   You have probably heard of omnichannel retail strategies\, but do you really understand them?  An omnichannel retail strategy is critical in today’s changing world of retail success\, consumer habits & behaviors. \n  \nIn this training\, Jenn Gregory will discuss omnichannel strategy\, national retail trends\, and the future of retail.  Additionally\, she will cover best practices and real-life examples of successful implementation of omnichannel retail strategies by peer small businesses.  \n  \nFollowing the training\, attendees will receive the following resources: \n\nDigital Marketing Guide – a step-by-step guide to getting your business set up on Shopify\nOptimizing Your Facebook Page eBook\nSocial Media Content Calendar Template – editable for your own use\n\n  \nREGISTER HERE:  https://zoom.us/webinar/register/WN_vHVss9s_Qmey1fL6sq9BbQ
URL:https://economic-alliance.com/event/spanish-event-free-training-e-tail-strategies/
LOCATION:WA
ATTACH;FMTTYPE=image/jpeg:https://economic-alliance.com/wp-content/uploads/2021/06/OCEA-Training-Flyer-Spanish-1-scaled.jpg
END:VEVENT
BEGIN:VEVENT
DTSTART;TZID=America/Los_Angeles:20210624T100000
DTEND;TZID=America/Los_Angeles:20210624T110000
DTSTAMP:20260425T075331
CREATED:20210618T000408Z
LAST-MODIFIED:20210628T200032Z
UID:6010-1624528800-1624532400@economic-alliance.com
SUMMARY:Resources from Free Training - E-Tail Strategies
DESCRIPTION:  \n  \n  \n  \n  \nResources added from Event 6/24/21 \n\n\n\n\n\n\n\n\n\n\n\n\n\n\n\nThank you for attending our E-tail Strategies: Get Your Business Online training in partnership with the Okanogan County Economic Alliance. \n  \nLinked below are small business support resources available for download. Please utilize these resources to assist in implementing an omni-channel retail strategy for your business. \n \n\n\n\n\n\n\n\n\n\n\n\n\n\n\n\n\n\n\n\n\n\n\nDownload the Presentation\n\n\n\n  \n\n\n\n\n\n\n\nDownload Here\n\n\n\n\n\n\n\n\n\n\n\n\n\n\n\n\n\n\n\n\n\n\n\n\n\n\n\n\n\n\nWatch the Presentation\n\n\n\n  \n\n\n\n\n\n\n\nWatch Here\n\n\n\n\n\n\n\n\n\n\n\n\n\n\n\n  \n\n\n\n\n\n\n\n\n\n\n\nADDITIONAL RESOURCESSmall Business Digital Marketing Guide \nHow to Get Your Store Online in 9 Steps \nDownload Here \n  \nHow To Optimize Your Facebook Page \nAn Introductory Guide to Facebook & How To Promote Your Small Business \nDownload Here \n  \nSocial Media Content Calendar Template \nDownload Here \n \n\n\n\n\n\n\nShould you have questions\, feel free to reach out to one of us directly: \n  \nJenn Gregory\, President\njgregory@retailstrategies.com \nLaura Marinos\, Director of Client Services\nlaura.marinos@retailstrategies.com  \n \n\n\n\n\n\n\n\n\n\n\n\n\n\n\n\n\n\n\n\n\n\n\n\n\n\n\n\n\n\n\n\n\n\n\n\n\n\n\n\n\n\n\n\n\n\n\n\n\n\n\n\n\n\n\n\n\n\n\n\n\n\n\n\n\n\n\n\n\n\n\n\n\n\n\n\n\n\n\n\n\n\n\n\n\n\n\n  \n\n\n\n\n\n\n\n\n\n\n\nRetail Strategies\, 2200 Magnolia Avenue South\, Suite 100\, Birmingham\, Alabama 35205\, (205) 313-3676\n\n\n\n\n\n\n\n\n\n\n\nText Previous to the Event: Have you considered expanding your business to include an online presence but don’t really know how to get started?  Join us for a FREE virtual training to learn how!  Starting at 10 AM on June 24th for this free virtual training.  This training will also be offered in Spanish on June 30th \n  \nThe Okanogan County Economic Alliance has partnered with Retail Strategies to provide Small Business Support training for our local merchants and entrepreneurs.   You have probably heard of omnichannel retail strategies\, but do you really understand it?  An omnichannel retail strategy is critical in today’s changing world of retail success\, consumer habits & behaviors. \n  \nIn this training\, Jenn Gregory will discuss omni channel strategy\, national retail trends\, and the future of retail.  Additionally\, she will cover best practices and real-life examples of successful implementation of omnichannel retail strategies by peer small businesses.  \n  \nFollowing the training\, attendees will receive the following resources: \n\nDigital Marketing Guide – a step-by-step guide to getting your business set-up on Shopify\nOptimizing Your Facebook Page eBook\nSocial Media Content Calendar Template – editable for your own use\n\n  \nREGISTER HERE:  https://zoom.us/webinar/register/WN_vHVss9s_Qmey1fL6sq9BbQ
URL:https://economic-alliance.com/event/free-training-e-tail-strategies/
LOCATION:WA
ATTACH;FMTTYPE=image/png:https://economic-alliance.com/wp-content/uploads/2021/06/image001.png
END:VEVENT
END:VCALENDAR