BEGIN:VCALENDAR
VERSION:2.0
PRODID:-//The Economic Alliance - ECPv6.11.1//NONSGML v1.0//EN
CALSCALE:GREGORIAN
METHOD:PUBLISH
X-WR-CALNAME:The Economic Alliance
X-ORIGINAL-URL:https://economic-alliance.com
X-WR-CALDESC:Events for The Economic Alliance
REFRESH-INTERVAL;VALUE=DURATION:PT1H
X-Robots-Tag:noindex
X-PUBLISHED-TTL:PT1H
BEGIN:VTIMEZONE
TZID:America/Los_Angeles
BEGIN:DAYLIGHT
TZOFFSETFROM:-0800
TZOFFSETTO:-0700
TZNAME:PDT
DTSTART:20220313T100000
END:DAYLIGHT
BEGIN:STANDARD
TZOFFSETFROM:-0700
TZOFFSETTO:-0800
TZNAME:PST
DTSTART:20221106T090000
END:STANDARD
BEGIN:DAYLIGHT
TZOFFSETFROM:-0800
TZOFFSETTO:-0700
TZNAME:PDT
DTSTART:20230312T100000
END:DAYLIGHT
BEGIN:STANDARD
TZOFFSETFROM:-0700
TZOFFSETTO:-0800
TZNAME:PST
DTSTART:20231105T090000
END:STANDARD
END:VTIMEZONE
BEGIN:VEVENT
DTSTART;TZID=America/Los_Angeles:20230420T133000
DTEND;TZID=America/Los_Angeles:20230420T143000
DTSTAMP:20260425T051818
CREATED:20230412T230314Z
LAST-MODIFIED:20230412T230345Z
UID:7179-1681997400-1682001000@economic-alliance.com
SUMMARY:Small Business 101:  Interview with the Expert-Risk Management
DESCRIPTION:Please join us as we interview Amanda Matz from L&I where we will discuss Risk Management and setting up your small business in the L&I System. Watch it live on the Okanogan County Economic Alliance Facebook Page!
URL:https://economic-alliance.com/event/small-business-101-interview-with-the-expert-risk-management/
LOCATION:WA
END:VEVENT
BEGIN:VEVENT
DTSTART;TZID=America/Los_Angeles:20230419T170000
DTEND;TZID=America/Los_Angeles:20230419T190000
DTSTAMP:20260425T051818
CREATED:20230412T225032Z
LAST-MODIFIED:20230412T225032Z
UID:7173-1681923600-1681930800@economic-alliance.com
SUMMARY:Business After Hours-A networking event
DESCRIPTION:Join us on April 19th from 5-7pm at the Breadline Cafe for the first Economic Alliance Business After Hours Networking event! This will be a great opportunity to meet other Okanogan County Small Businesses\, learn about the small business resources available but really is a time to network and learn about each other. \nRSVP to 509-826-5107
URL:https://economic-alliance.com/event/business-after-hours-a-networking-event/
LOCATION:Breadline Cafe\, 102 Ash Street S\, Omak\, WA\, 98841\, United States
END:VEVENT
BEGIN:VEVENT
DTSTART;TZID=America/Los_Angeles:20230406T163000
DTEND;TZID=America/Los_Angeles:20230406T173000
DTSTAMP:20260425T051818
CREATED:20230303T232332Z
LAST-MODIFIED:20230307T192456Z
UID:7130-1680798600-1680802200@economic-alliance.com
SUMMARY:Chamber membership and networking
DESCRIPTION:
URL:https://economic-alliance.com/event/chamber-membership-and-networking/
LOCATION:WA
END:VEVENT
BEGIN:VEVENT
DTSTART;TZID=America/Los_Angeles:20230329T090000
DTEND;TZID=America/Los_Angeles:20230329T110000
DTSTAMP:20260425T051818
CREATED:20230303T232136Z
LAST-MODIFIED:20230307T192539Z
UID:7127-1680080400-1680087600@economic-alliance.com
SUMMARY:Creative Arts Economy
DESCRIPTION:Register here 
URL:https://economic-alliance.com/event/creative-arts-economy/
LOCATION:WA
END:VEVENT
BEGIN:VEVENT
DTSTART;TZID=America/Los_Angeles:20230316T173000
DTEND;TZID=America/Los_Angeles:20230316T173000
DTSTAMP:20260425T051818
CREATED:20230303T231838Z
LAST-MODIFIED:20230307T192622Z
UID:7124-1678987800-1678987800@economic-alliance.com
SUMMARY:Effective Communication Employees and Customers
DESCRIPTION:
URL:https://economic-alliance.com/event/effective-communication-employees-and-customers/
LOCATION:WA
END:VEVENT
BEGIN:VEVENT
DTSTART;TZID=America/Los_Angeles:20230314T140000
DTEND;TZID=America/Los_Angeles:20230314T153000
DTSTAMP:20260425T051818
CREATED:20230208T225704Z
LAST-MODIFIED:20230307T193838Z
UID:7091-1678802400-1678807800@economic-alliance.com
SUMMARY:Youth Employment Workshop for Employers Webinar
DESCRIPTION:
URL:https://economic-alliance.com/event/youth-employment-workshop-for-employers-webinar/
LOCATION:WA
ATTACH;FMTTYPE=image/jpeg:https://economic-alliance.com/wp-content/uploads/2023/02/Youth-Employment-Workshop.Final_-1-scaled.jpg
END:VEVENT
BEGIN:VEVENT
DTSTART;TZID=America/Los_Angeles:20230223T100000
DTEND;TZID=America/Los_Angeles:20230223T113000
DTSTAMP:20260425T051818
CREATED:20230208T230411Z
LAST-MODIFIED:20230208T230636Z
UID:7098-1677146400-1677151800@economic-alliance.com
SUMMARY:Access to Capital
DESCRIPTION:
URL:https://economic-alliance.com/event/access-to-capital/
LOCATION:WA
ATTACH;FMTTYPE=image/jpeg:https://economic-alliance.com/wp-content/uploads/2023/02/Copy-of-Dominic-Flores-for-print-scaled.jpg
END:VEVENT
BEGIN:VEVENT
DTSTART;TZID=America/Los_Angeles:20230216T133000
DTEND;TZID=America/Los_Angeles:20230216T150000
DTSTAMP:20260425T051818
CREATED:20230109T231404Z
LAST-MODIFIED:20230216T190836Z
UID:7081-1676554200-1676559600@economic-alliance.com
SUMMARY:L&I Updates for General Contractors & the Construction Industry
DESCRIPTION:Learn more about L&I programs and services specific to contractors\, new law changes that will affect contractors\, and what you can do to stay in compliance with L&I. \nLive Webinar! \nRegister Here
URL:https://economic-alliance.com/event/li-updates-for-general-contractors-the-construction-industry/
LOCATION:Online
ATTACH;FMTTYPE=image/jpeg:https://economic-alliance.com/wp-content/uploads/2023/01/LNIUPDATE-scaled.jpg
END:VEVENT
BEGIN:VEVENT
DTSTART;TZID=America/Los_Angeles:20221129T100000
DTEND;TZID=America/Los_Angeles:20221129T120000
DTSTAMP:20260425T051818
CREATED:20221122T234454Z
LAST-MODIFIED:20221123T002001Z
UID:7054-1669716000-1669723200@economic-alliance.com
SUMMARY:L&I Round Table Event: Changes for 2023
DESCRIPTION:With a new year comes new changes in the law\, and 2023 is no exception. The Economic Alliance will be holding a roundtable discussion on topics including the proposed L&I workers’ compensation rate increases\, increases in the state minimum wage for 2023\, new wage range posting requirements and HOW these changes will affect your business!
URL:https://economic-alliance.com/event/li-round-table-event-changes-for-2023/
LOCATION:12 Tribes Casino Hotel\, Omak\, WA\, 28968 US-97\, Omak\, WA\, 98841
END:VEVENT
BEGIN:VEVENT
DTSTART;TZID=America/Los_Angeles:20221017T090000
DTEND;TZID=America/Los_Angeles:20221017T150000
DTSTAMP:20260425T051818
CREATED:20220823T235248Z
LAST-MODIFIED:20220913T200459Z
UID:6997-1665997200-1666018800@economic-alliance.com
SUMMARY:Retail Academy Workshop
DESCRIPTION:Retail Academy Overview_washington
URL:https://economic-alliance.com/event/retail-academy-workshop-2/
LOCATION:12 Tribes Casino Hotel\, Omak\, WA\, 28968 US-97\, Omak\, WA\, 98841
END:VEVENT
BEGIN:VEVENT
DTSTART;TZID=America/Los_Angeles:20220927T080000
DTEND;TZID=America/Los_Angeles:20220927T170000
DTSTAMP:20260425T051818
CREATED:20220916T181035Z
LAST-MODIFIED:20220916T181035Z
UID:7025-1664265600-1664298000@economic-alliance.com
SUMMARY:L&I and Your Business
DESCRIPTION:
URL:https://economic-alliance.com/event/li-and-your-business/
LOCATION:EA Office\, 238 E Oak\, Okanogan\, WA\, 98840
ATTACH;FMTTYPE=image/jpeg:https://economic-alliance.com/wp-content/uploads/2022/09/WORKSHOP-FLYER-sept-22-2-scaled.jpg
END:VEVENT
BEGIN:VEVENT
DTSTART;TZID=America/Los_Angeles:20220920T150000
DTEND;TZID=America/Los_Angeles:20220920T150000
DTSTAMP:20260425T051818
CREATED:20220916T180158Z
LAST-MODIFIED:20220916T180158Z
UID:7019-1663686000-1663686000@economic-alliance.com
SUMMARY:Create your Shopify Storefront
DESCRIPTION:Do you currently have a brick-and-mortar store? Are you ready to take the next step and create an online storefront as well? \n\n\nAbout this event\n\n\n\nDo you currently have a brick-and-mortar store? Are you ready to take the next step and create an online storefront as well? \nShopify is a one-stop eCommerce platform that is easy to set up and a great option to complement your physical storefront. This workshop will cover topics like domain names\, email and social media marketing\, analytics\, how to add products\, photos/media to your listings – and much more!
URL:https://economic-alliance.com/event/create-your-shopify-storefront/
LOCATION:EA Office\, 238 E Oak\, Okanogan\, WA\, 98840
ATTACH;FMTTYPE=image/jpeg:https://economic-alliance.com/wp-content/uploads/2022/09/WORKSHOP-FLYER-sept-22-2-scaled.jpg
END:VEVENT
BEGIN:VEVENT
DTSTART;TZID=America/Los_Angeles:20220908T090000
DTEND;TZID=America/Los_Angeles:20220908T150000
DTSTAMP:20260425T051818
CREATED:20220823T234703Z
LAST-MODIFIED:20220913T200222Z
UID:6993-1662627600-1662649200@economic-alliance.com
SUMMARY:Retail Academy Workshop - Online
DESCRIPTION:Retail Academy Overview_washington
URL:https://economic-alliance.com/event/retail-academy-workshop/
LOCATION:Online
END:VEVENT
BEGIN:VEVENT
DTSTART;TZID=America/Los_Angeles:20220906T150000
DTEND;TZID=America/Los_Angeles:20220906T160000
DTSTAMP:20260425T051818
CREATED:20220916T180533Z
LAST-MODIFIED:20220916T180627Z
UID:7022-1662476400-1662480000@economic-alliance.com
SUMMARY:Time Management 101
DESCRIPTION:This workshop will be full of tips\, tricks\, and advice on ways to organize yourself and your workday! \n\n\nAbout this event\n\n\n\nYou have a business\, you’re trying to balance marketing\, customer service\, administrative tasks\, home/family\, and other obligations… that’s a lot to juggle! This workshop will be full of tips\, tricks\, and advice on ways to organize yourself\, and your workday – as they say\, work smarter not harder!
URL:https://economic-alliance.com/event/time-management-101-2/
LOCATION:EA Office\, 238 E Oak\, Okanogan\, WA\, 98840
ATTACH;FMTTYPE=image/jpeg:https://economic-alliance.com/wp-content/uploads/2022/09/WORKSHOP-FLYER-sept-22-2-scaled.jpg
END:VEVENT
BEGIN:VEVENT
DTSTART;TZID=America/Los_Angeles:20220830T150000
DTEND;TZID=America/Los_Angeles:20220830T170000
DTSTAMP:20260425T051818
CREATED:20220804T000258Z
LAST-MODIFIED:20220804T000258Z
UID:6975-1661871600-1661878800@economic-alliance.com
SUMMARY:Social Media 101
DESCRIPTION:Does social media confuse you? Not sure which platforms would be useful for your business? \n\n\nAbout this event\n\n\n\nSocial Media is a HUGE and constantly changing space\, some platforms are more popular with certain age groups than others\, and it can easily get overwhelming. This workshop will cover some useful statistics\, determining who your customer is – and which social media platforms could be the best for your business. We will also review types of posts\, tools for time management\, the anatomy of a post\, the importance of engagement\, and how to add value rather than seeming spammy. \nIf additional or more in-depth assistance is needed\, individual appointments can be made to walk through each step and get your site online.
URL:https://economic-alliance.com/event/social-media-101-2/
LOCATION:EA Office\, 238 E Oak\, Okanogan\, WA\, 98840
ATTACH;FMTTYPE=image/jpeg:https://economic-alliance.com/wp-content/uploads/2022/08/WORKSHOP-FLYER-aug-22-1-scaled.jpg
END:VEVENT
BEGIN:VEVENT
DTSTART;TZID=America/Los_Angeles:20220823T150000
DTEND;TZID=America/Los_Angeles:20220823T170000
DTSTAMP:20260425T051818
CREATED:20220804T000127Z
LAST-MODIFIED:20220804T000127Z
UID:6973-1661266800-1661274000@economic-alliance.com
SUMMARY:Pricing Your Product
DESCRIPTION:Do you make awesome hand-crafted items\, but you’re not sure how to price your items? \n\n\nAbout this event\n\n\n\nDo you make awesome hand-crafted items\, but you’re not sure how to price your items? Making a profit is vital to any business – but figuring out how to properly price your items can be hard! This workshop will provide different methods that you can use to determine a fair price and ensures that you are making a profit!
URL:https://economic-alliance.com/event/pricing-your-product-4/
LOCATION:EA Office\, 238 E Oak\, Okanogan\, WA\, 98840
ATTACH;FMTTYPE=image/jpeg:https://economic-alliance.com/wp-content/uploads/2022/08/WORKSHOP-FLYER-aug-22-1-scaled.jpg
END:VEVENT
BEGIN:VEVENT
DTSTART;TZID=America/Los_Angeles:20220816T150000
DTEND;TZID=America/Los_Angeles:20220816T170000
DTSTAMP:20260425T051818
CREATED:20220803T235949Z
LAST-MODIFIED:20220803T235949Z
UID:6971-1660662000-1660669200@economic-alliance.com
SUMMARY:Email Marketing Basics
DESCRIPTION:Learn about email marketing as a form of marketing that can make customers aware of new products\, discounts\, and other services. \n\n\nAbout this event\n\n\n\nEmail marketing is a form of marketing that can make customers aware of new products\, discounts\, and other services. It can also be a softer sell to educate your audience on the value of your brand or keep them engaged between purchases. It can also be anything in between. When you want to grow your brand or sell your stuff\, email marketing is one of the most popular—and effective—tools around for marketing campaigns. In this workshop we’ll discuss how email marketing – and the usage of promotional emails – can help you to grow your business\, and we’ll give you a few tips to help you get started with a successful email marketing campaign.
URL:https://economic-alliance.com/event/email-marketing-basics-2/
LOCATION:EA Office\, 238 E Oak\, Okanogan\, WA\, 98840
ATTACH;FMTTYPE=image/jpeg:https://economic-alliance.com/wp-content/uploads/2022/08/WORKSHOP-FLYER-aug-22-1-scaled.jpg
END:VEVENT
BEGIN:VEVENT
DTSTART;TZID=America/Los_Angeles:20220809T150000
DTEND;TZID=America/Los_Angeles:20220809T170000
DTSTAMP:20260425T051818
CREATED:20220803T235807Z
LAST-MODIFIED:20220803T235807Z
UID:6969-1660057200-1660064400@economic-alliance.com
SUMMARY:Marketing Basics
DESCRIPTION:Marketing can be a challenge. This workshop will touch on branding your business\, email marketing\, digital marketing\, SEO & Google Ads. \n\n\nAbout this event\n\n\n\nMarketing your business can be a challenge. In this workshop we will touch on branding your business\, email marketing\, digital marketing using SEO (search engine optimization) and Google Ads.
URL:https://economic-alliance.com/event/marketing-basics-2/
LOCATION:EA Office\, 238 E Oak\, Okanogan\, WA\, 98840
ATTACH;FMTTYPE=image/jpeg:https://economic-alliance.com/wp-content/uploads/2022/08/WORKSHOP-FLYER-aug-22-1-scaled.jpg
END:VEVENT
BEGIN:VEVENT
DTSTART;TZID=America/Los_Angeles:20220802T150000
DTEND;TZID=America/Los_Angeles:20220802T170000
DTSTAMP:20260425T051818
CREATED:20220803T235643Z
LAST-MODIFIED:20220803T235643Z
UID:6967-1659452400-1659459600@economic-alliance.com
SUMMARY:Building a Brand
DESCRIPTION:Branding is the most powerful marketing tool in the world. For individuals and businesses alike\, establishing your brand can the difference \n\n\nAbout this event\n\n\n\nYou have a business idea\, you’re trying to find your voice\, build a brand that people recognize and gravitate to. A brand is more than just a company logo or slogan. It’s how people feel when they see your logo or hear your name. \nBranding is the most powerful marketing tool in the world. For individuals and businesses alike\, establishing your brand can be the difference between success\, mediocrity\, and failure.
URL:https://economic-alliance.com/event/building-a-brand-2/
LOCATION:EA Office\, 238 E Oak\, Okanogan\, WA\, 98840
ATTACH;FMTTYPE=image/jpeg:https://economic-alliance.com/wp-content/uploads/2022/08/WORKSHOP-FLYER-aug-22-1-scaled.jpg
END:VEVENT
BEGIN:VEVENT
DTSTART;TZID=America/Los_Angeles:20220726T150000
DTEND;TZID=America/Los_Angeles:20220726T170000
DTSTAMP:20260425T051818
CREATED:20220701T000032Z
LAST-MODIFIED:20220701T000032Z
UID:6951-1658847600-1658854800@economic-alliance.com
SUMMARY:Workshop: Social Media 101
DESCRIPTION:Does social media confuse you? Not sure which platforms would be useful for your business?\nSocial Media is a HUGE and constantly changing space\, some platforms are more popular with certain age groups than others\, and it can easily get overwhelming. This workshop will cover some useful statistics\, determining who your customer is – and which social media platforms could be the best for your business. We will also review the types of posts\, tools for time management\, the anatomy of a post\, the importance of engagement\, and how to add value rather than seeming spammy.
URL:https://economic-alliance.com/event/workshop-social-media-101/
LOCATION:EA Office\, 238 E Oak\, Okanogan\, WA\, 98840
ATTACH;FMTTYPE=image/jpeg:https://economic-alliance.com/wp-content/uploads/2022/06/WORKSHOP-FLYER-july-22-scaled.jpg
END:VEVENT
BEGIN:VEVENT
DTSTART;TZID=America/Los_Angeles:20220719T150000
DTEND;TZID=America/Los_Angeles:20220719T170000
DTSTAMP:20260425T051818
CREATED:20220630T235826Z
LAST-MODIFIED:20220630T235826Z
UID:6949-1658242800-1658250000@economic-alliance.com
SUMMARY:Workshop: Facebook for your Business
DESCRIPTION:Do you have a personal Facebook page? \nHave you thought about or started a Business page on Facebook – and you’re not sure what to do now? \nThis workshop will cover everything from advice on creating your brand\, how to make a visually appealing page\, how to create engaging content\, Facebook Marketing intro\, and Ads on Facebook \nIf additional or more in-depth assistance is needed\, individual appointments can be made to walk through each step and get your site online.
URL:https://economic-alliance.com/event/workshop-facebook-for-your-business/
LOCATION:EA Office\, 238 E Oak\, Okanogan\, WA\, 98840
ATTACH;FMTTYPE=image/jpeg:https://economic-alliance.com/wp-content/uploads/2022/06/WORKSHOP-FLYER-july-22-scaled.jpg
END:VEVENT
BEGIN:VEVENT
DTSTART;TZID=America/Los_Angeles:20220712T150000
DTEND;TZID=America/Los_Angeles:20220712T170000
DTSTAMP:20260425T051818
CREATED:20220630T235603Z
LAST-MODIFIED:20220630T235603Z
UID:6947-1657638000-1657645200@economic-alliance.com
SUMMARY:Workshop: Email Marketing Basics
DESCRIPTION:Email marketing is a form of marketing that can make customers aware of new products\, discounts\, and other services. It can also be a softer sell to educate your audience on the value of your brand or keep them engaged between purchases. It can also be anything in between. When you want to grow your brand or sell your stuff\, email marketing is one of the most popular—and effective—tools around for marketing campaigns. In this workshop\, we’ll discuss how email marketing – and the usage of promotional emails – can help you to grow your business\, and we’ll give you a few tips to help you get started with a successful email marketing strategy.
URL:https://economic-alliance.com/event/workshop-email-marketing-basics/
LOCATION:EA Office\, 238 E Oak\, Okanogan\, WA\, 98840
ATTACH;FMTTYPE=image/jpeg:https://economic-alliance.com/wp-content/uploads/2022/06/WORKSHOP-FLYER-july-22-scaled.jpg
END:VEVENT
BEGIN:VEVENT
DTSTART;TZID=America/Los_Angeles:20220705T150000
DTEND;TZID=America/Los_Angeles:20220705T170000
DTSTAMP:20260425T051818
CREATED:20220630T235204Z
LAST-MODIFIED:20220630T235204Z
UID:6944-1657033200-1657040400@economic-alliance.com
SUMMARY:Workshop: Pricing your Product
DESCRIPTION:Do you make awesome hand-crafted items\, but you’re not sure how to price your items? Making a profit is vital to any business – but figuring out how to properly price your items can be hard! This workshop will provide different methods that you can use determine a fair price and ensures that you are making a profit!
URL:https://economic-alliance.com/event/workshop-pricing-your-product/
LOCATION:EA Office\, 238 E Oak\, Okanogan\, WA\, 98840
ATTACH;FMTTYPE=image/jpeg:https://economic-alliance.com/wp-content/uploads/2022/06/WORKSHOP-FLYER-july-22-scaled.jpg
END:VEVENT
BEGIN:VEVENT
DTSTART;TZID=America/Los_Angeles:20220621T090000
DTEND;TZID=America/Los_Angeles:20220621T110000
DTSTAMP:20260425T051818
CREATED:20220701T000426Z
LAST-MODIFIED:20220701T000426Z
UID:6953-1655802000-1655809200@economic-alliance.com
SUMMARY:Workshop: Marketing Basics
DESCRIPTION:Marketing your business can be a challenge. In this workshop we will touch on branding your business\, email marketing\, digital marketing using SEO (search engine optimization) and Google Ads.
URL:https://economic-alliance.com/event/workshop-marketing-basics/
LOCATION:EA Office\, 238 E Oak\, Okanogan\, WA\, 98840
END:VEVENT
BEGIN:VEVENT
DTSTART;TZID=America/Los_Angeles:20220531T090000
DTEND;TZID=America/Los_Angeles:20220531T110000
DTSTAMP:20260425T051818
CREATED:20220421T202232Z
LAST-MODIFIED:20220421T202232Z
UID:6919-1653987600-1653994800@economic-alliance.com
SUMMARY:Etsy for Beginners
DESCRIPTION:Would an Etsy shop benefit your startup or small business\, but you’re not sure where to start? Etsy is a wildly popular platform that is a great option for folks that may be looking to add an online channel to a current business\, or\, for a small outfit that’s not quite ready for a physical storefront. \nWe will give you all the information you need to determine if Etsy is a good platform for you\, as well as the basics to get your shop active online. \nPlease be advised\, there are costs associated when having an Etsy shop – we will review those as part of the workshop \nIf additional or more in-depth assistance is needed\, individual appointments can be made to walk through each step and get your shop online.
URL:https://economic-alliance.com/event/etsy-for-beginners/
LOCATION:EA Office\, 238 E Oak\, Okanogan\, WA\, 98840
ATTACH;FMTTYPE=image/jpeg:https://economic-alliance.com/wp-content/uploads/2022/04/May-Events.jpg
END:VEVENT
BEGIN:VEVENT
DTSTART;TZID=America/Los_Angeles:20220524T090000
DTEND;TZID=America/Los_Angeles:20220524T110000
DTSTAMP:20260425T051818
CREATED:20220421T202041Z
LAST-MODIFIED:20220421T202041Z
UID:6917-1653382800-1653390000@economic-alliance.com
SUMMARY:Instagram for beginners
DESCRIPTION:Yes\, another Social Media platform. Get to know more about Instagram\, who’s on it\, if you should be\, how to get started\, how to grow followers – and how to use it for your business!
URL:https://economic-alliance.com/event/instagram-for-beginners-4/
LOCATION:EA Office\, 238 E Oak\, Okanogan\, WA\, 98840
ATTACH;FMTTYPE=image/jpeg:https://economic-alliance.com/wp-content/uploads/2022/04/May-Events.jpg
END:VEVENT
BEGIN:VEVENT
DTSTART;TZID=America/Los_Angeles:20220517T090000
DTEND;TZID=America/Los_Angeles:20220517T110000
DTSTAMP:20260425T051818
CREATED:20220421T201841Z
LAST-MODIFIED:20220421T201841Z
UID:6915-1652778000-1652785200@economic-alliance.com
SUMMARY:Facebook for your Business
DESCRIPTION:Do you have a personal Facebook page? \nHave you thought about or started a Business page on Facebook – and you’re not sure what to do now? \nThis workshop will cover everything from advice on creating your brand\, how to make a visually appealing page\, how to create engaging content\, Facebook Marketing intro\, and Ads on Facebook \nIf additional or more in-depth assistance is needed\, individual appointments can be made to walk through each step and get your site
URL:https://economic-alliance.com/event/facebook-for-your-business-2/
LOCATION:EA Office\, 238 E Oak\, Okanogan\, WA\, 98840
ATTACH;FMTTYPE=image/jpeg:https://economic-alliance.com/wp-content/uploads/2022/04/May-Events.jpg
END:VEVENT
BEGIN:VEVENT
DTSTART;TZID=America/Los_Angeles:20220510T090000
DTEND;TZID=America/Los_Angeles:20220510T110000
DTSTAMP:20260425T051818
CREATED:20220421T201655Z
LAST-MODIFIED:20220421T201655Z
UID:6913-1652173200-1652180400@economic-alliance.com
SUMMARY:Building a Brand
DESCRIPTION:You have a business idea\, you’re trying to find your voice\, and build a brand that people recognize and gravitate to. A brand is more than just a company logo or slogan. It’s how people feel when they see your logo or hear your name. \nBranding is the most powerful marketing tool in the world. For individuals and businesses alike\, establishing your brand can be the difference between success\, mediocrity\, and failure.
URL:https://economic-alliance.com/event/building-a-brand/
LOCATION:EA Office\, 238 E Oak\, Okanogan\, WA\, 98840
ATTACH;FMTTYPE=image/jpeg:https://economic-alliance.com/wp-content/uploads/2022/04/May-Events.jpg
END:VEVENT
BEGIN:VEVENT
DTSTART;TZID=America/Los_Angeles:20220503T090000
DTEND;TZID=America/Los_Angeles:20220503T110000
DTSTAMP:20260425T051818
CREATED:20220421T201456Z
LAST-MODIFIED:20220421T201456Z
UID:6911-1651568400-1651575600@economic-alliance.com
SUMMARY:Marketing Basics
DESCRIPTION:Marketing your business can be a challenge. In this workshop we will touch on branding your business\, email marketing\, digital marketing using SEO (search engine optimization) and Google Ads.
URL:https://economic-alliance.com/event/marketing-basics/
LOCATION:EA Office\, 238 E Oak\, Okanogan\, WA\, 98840
ATTACH;FMTTYPE=image/jpeg:https://economic-alliance.com/wp-content/uploads/2022/04/May-Events.jpg
END:VEVENT
BEGIN:VEVENT
DTSTART;TZID=America/Los_Angeles:20220428T173000
DTEND;TZID=America/Los_Angeles:20220428T190000
DTSTAMP:20260425T051818
CREATED:20220421T200002Z
LAST-MODIFIED:20220421T200242Z
UID:6898-1651167000-1651172400@economic-alliance.com
SUMMARY:Instagram for Beginners
DESCRIPTION:Instagram. Yes\, another Social Media platform. Get to know more about Instagram\, who’s on it\, if you should be\, and how to get started!\n\n\n\n\n\nAbout this event\n\n\nInstagram. Yes\, another Social Media platform. Get to know more about Instagram\, who’s on it\, if you should be\, how to get started\, how to grow followers – and how to use it for your business!
URL:https://economic-alliance.com/event/instagram-for-beginners-3/
LOCATION:EA Office\, 238 E Oak\, Okanogan\, WA\, 98840
ATTACH;FMTTYPE=image/jpeg:https://economic-alliance.com/wp-content/uploads/2022/03/WORKSHOP-FLYER-April-22-scaled.jpg
END:VEVENT
END:VCALENDAR