BEGIN:VCALENDAR
VERSION:2.0
PRODID:-//The Economic Alliance - ECPv6.11.1//NONSGML v1.0//EN
CALSCALE:GREGORIAN
METHOD:PUBLISH
X-ORIGINAL-URL:https://economic-alliance.com
X-WR-CALDESC:Events for The Economic Alliance
REFRESH-INTERVAL;VALUE=DURATION:PT1H
X-Robots-Tag:noindex
X-PUBLISHED-TTL:PT1H
BEGIN:VTIMEZONE
TZID:America/Los_Angeles
BEGIN:DAYLIGHT
TZOFFSETFROM:-0800
TZOFFSETTO:-0700
TZNAME:PDT
DTSTART:20260308T100000
END:DAYLIGHT
BEGIN:STANDARD
TZOFFSETFROM:-0700
TZOFFSETTO:-0800
TZNAME:PST
DTSTART:20261101T090000
END:STANDARD
END:VTIMEZONE
BEGIN:VEVENT
DTSTART;TZID=America/Los_Angeles:20260310T100000
DTEND;TZID=America/Los_Angeles:20260310T120000
DTSTAMP:20260425T053424
CREATED:20260219T042818Z
LAST-MODIFIED:20260219T042818Z
UID:8195-1773136800-1773144000@economic-alliance.com
SUMMARY:Using AI to speed up your marketing
DESCRIPTION:Whether you’re brand new to AI or already experimenting with it\, this session will show you simple\, everyday ways to use AI to plan content\, improve your website\, and draft posts and emails faster — no tech background needed.\nWe’ll walk through practical tools you can start using right away to make marketing easier and more efficient for your business.\nJoin us on March 10 from 10 AM–12 PM.\nClick the link below to sign up\nRegister here
URL:https://economic-alliance.com/event/using-ai-to-speed-up-your-marketing/
LOCATION:EA Office\, 238 E Oak\, Okanogan\, WA\, 98840
ATTACH;FMTTYPE=application/pdf:https://economic-alliance.com/wp-content/uploads/2026/02/AI-Workshop.pdf
END:VEVENT
BEGIN:VEVENT
DTSTART;TZID=America/Los_Angeles:20260317T090000
DTEND;TZID=America/Los_Angeles:20260317T110000
DTSTAMP:20260425T053424
CREATED:20260223T051849Z
LAST-MODIFIED:20260223T051849Z
UID:8207-1773738000-1773745200@economic-alliance.com
SUMMARY:Start Simple
DESCRIPTION:Start Simple is a free\, three‑session course designed to help new and existing small business owners build a strong foundation. Over three Tuesday mornings\, you’ll explore the basics of starting or refining a business\, assess the potential of your idea\, and set realistic goals with supportive guidance along the way. It’s a practical\, approachable way to move from inspiration to a clearer plan. \n  \nRegister Here
URL:https://economic-alliance.com/event/start-simple-2/
LOCATION:Okanogan County Community Action\, 424 2nd Ave S\, Okanogan\, WA\, 98840\, United States
ATTACH;FMTTYPE=image/png:https://economic-alliance.com/wp-content/uploads/2026/02/Orange-and-White-Modern-Public-Speaking-Workshop-Flyer-1.png
END:VEVENT
BEGIN:VEVENT
DTSTART;TZID=America/Los_Angeles:20260325T173000
DTEND;TZID=America/Los_Angeles:20260325T193000
DTSTAMP:20260425T053424
CREATED:20260302T064732Z
LAST-MODIFIED:20260302T064732Z
UID:8217-1774459800-1774467000@economic-alliance.com
SUMMARY:Pricing for Food Businesses
DESCRIPTION:Pricing for Food Businesses\nA free evening workshop that helps food entrepreneurs learn how to price their products with confidence. Participants will explore menu building\, true cost calculation\, and cash‑flow basics\, with practical tools they can apply right away. This session is designed for food‑based businesses at any stage and offers clear\, real‑world guidance to support long‑term sustainability. \n  \nRegistration Info: Call Economic Alliance @ (509)-826-5107 or Twispworks @ (509)-997-3300
URL:https://economic-alliance.com/event/pricing-for-food-businesses/
LOCATION:TwispWorks\, 502 Glover St\, Twisp\, Washington\, 98856
ATTACH;FMTTYPE=application/pdf:https://economic-alliance.com/wp-content/uploads/2026/03/Pricing-for-Food-Businesses-Workshop.pdf
END:VEVENT
BEGIN:VEVENT
DTSTART;TZID=America/Los_Angeles:20260413T130000
DTEND;TZID=America/Los_Angeles:20260413T150000
DTSTAMP:20260425T053424
CREATED:20260401T050506Z
LAST-MODIFIED:20260401T050506Z
UID:8234-1776085200-1776092400@economic-alliance.com
SUMMARY:Digital Discovery Series - Tonasket Senior Center
DESCRIPTION:Digital Discovery Series- Tonasket Senior Center \nTechnology can feel confusing — but you don’t have to navigate it alone. This hands‑on workshop is designed to help you build confidence with your phone\, tablet\, or laptop while learning simple ways to stay safe online.\nWe’ll walk through common scams\, password safety\, and everyday tech skills in a friendly\, step‑by‑step format. Bring your device and any questions you’ve been wanting to ask.\nFor questions or to sign up\, call 509‑826‑5107.
URL:https://economic-alliance.com/event/digital-discovery-series-tonasket-senior-center/
LOCATION:Tonasket Senior Center\, 22 5th St\, Tonasket\, WA\, 98855\, United States
ATTACH;FMTTYPE=image/png:https://economic-alliance.com/wp-content/uploads/2026/03/Digital-Discovery-Tonasket.png
END:VEVENT
BEGIN:VEVENT
DTSTART;TZID=America/Los_Angeles:20260416T100000
DTEND;TZID=America/Los_Angeles:20260416T120000
DTSTAMP:20260425T053424
CREATED:20260401T051319Z
LAST-MODIFIED:20260401T051319Z
UID:8239-1776333600-1776340800@economic-alliance.com
SUMMARY:Start Simple @ WorkSource
DESCRIPTION:Start Simple Business Course \nStarting a business can feel overwhelming — but you don’t have to figure it out alone. This free three‑session course offers practical guidance\, clear explanations\, and space to explore your ideas with support.\nYou’ll learn the core concepts every small business owner should understand\, from evaluating your idea to setting realistic goals and building financial confidence. Whether you’re just getting started or refining an existing business\, this workshop gives you a solid foundation to move forward.\nRegister here
URL:https://economic-alliance.com/event/start-simple-worksource/
LOCATION:worksource\, 126 S Main St\, Omak\, WA\, 98841\, United States
ATTACH;FMTTYPE=image/png:https://economic-alliance.com/wp-content/uploads/2026/03/Orange-and-White-Modern-Public-Speaking-Workshop-Flyer-2.png
END:VEVENT
BEGIN:VEVENT
DTSTART;TZID=America/Los_Angeles:20260512T100000
DTEND;TZID=America/Los_Angeles:20260512T120000
DTSTAMP:20260425T053424
CREATED:20260422T031735Z
LAST-MODIFIED:20260423T025133Z
UID:8258-1778580000-1778587200@economic-alliance.com
SUMMARY:Financial Literacy Workshop
DESCRIPTION:Financial Literacy Workshop — May 12 Join us for a practical session on understanding the story your finances tell. Business advisor Michael Reis from Business Impact NW will walk through key financial statements\, cash flow\, credit use\, and how finances shape everyday decisions. May 12\, 10am – 12pm \n  \nRegister here
URL:https://economic-alliance.com/event/financial-literacy-workshop/
LOCATION:Washington
ATTACH;FMTTYPE=image/png:https://economic-alliance.com/wp-content/uploads/2026/04/Green-Professional-Financial-Growth-Solutions-Flyer.png
END:VEVENT
BEGIN:VEVENT
DTSTART;TZID=America/Los_Angeles:20260609T100000
DTEND;TZID=America/Los_Angeles:20260609T120000
DTSTAMP:20260425T053424
CREATED:20260422T032019Z
LAST-MODIFIED:20260422T032019Z
UID:8260-1780999200-1781006400@economic-alliance.com
SUMMARY:Financial Literacy Workshop- Access to Capital
DESCRIPTION:Access to Capital Workshop — June 9 Learn how to identify your funding needs\, explore types of capital\, and understand what lenders look for. Business advisor Gwen Kohl from Business Impact NW will guide you through the essentials to prepare for funding. June 9\, 10 AM–12 PM \n  \nRegister here
URL:https://economic-alliance.com/event/financial-literacy-workshop-access-to-capital/
LOCATION:Washington
ATTACH;FMTTYPE=image/png:https://economic-alliance.com/wp-content/uploads/2026/04/access-to-capital-ig-post.png
END:VEVENT
END:VCALENDAR