BEGIN:VCALENDAR
VERSION:2.0
PRODID:-//The Economic Alliance - ECPv6.11.1//NONSGML v1.0//EN
CALSCALE:GREGORIAN
METHOD:PUBLISH
X-ORIGINAL-URL:https://economic-alliance.com
X-WR-CALDESC:Events for The Economic Alliance
REFRESH-INTERVAL;VALUE=DURATION:PT1H
X-Robots-Tag:noindex
X-PUBLISHED-TTL:PT1H
BEGIN:VTIMEZONE
TZID:America/Los_Angeles
BEGIN:DAYLIGHT
TZOFFSETFROM:-0800
TZOFFSETTO:-0700
TZNAME:PDT
DTSTART:20260308T100000
END:DAYLIGHT
BEGIN:STANDARD
TZOFFSETFROM:-0700
TZOFFSETTO:-0800
TZNAME:PST
DTSTART:20261101T090000
END:STANDARD
END:VTIMEZONE
BEGIN:VEVENT
DTSTART;TZID=America/Los_Angeles:20260302T130000
DTEND;TZID=America/Los_Angeles:20260302T150000
DTSTAMP:20260424T050035
CREATED:20260213T061427Z
LAST-MODIFIED:20260213T061549Z
UID:8190-1772456400-1772463600@economic-alliance.com
SUMMARY:Digital Discovery Series- Tonasket
DESCRIPTION:Join us for our next Digital Discovery Series — a hands‑on workshop designed to help you stay safe and confident online. Participants will learn to navigate Confluence Health’s MyChart system\, recognize scams\, create strong passwords\, and use their devices more securely. Computers will be available\, and attendees are welcome to bring their own.\nThe session takes place March 2nd from 1:00–3:00 PM at the Community Cultural Center\, 411 S Western Ave\, Tonasket. \nFor questions\, call 509‑826‑5107. \nThis workshop is made possible through the support of Confluence Health\, NCW Tech Alliance\, WSU Extension\, the Okanogan County & Colville Confederated Tribes Broadband Action Team\, the Community Cultural Center\, and the Economic Alliance.
URL:https://economic-alliance.com/event/digital-discovery-series-tonasket/
LOCATION:Community Cultural Center\, 411 S Western Ave\, Tonasket\, 98855\, United States
ATTACH;FMTTYPE=application/pdf:https://economic-alliance.com/wp-content/uploads/2026/02/Digital-Discovery-Series-Tonasket.pdf
END:VEVENT
END:VCALENDAR