BEGIN:VCALENDAR
VERSION:2.0
PRODID:-//The Economic Alliance - ECPv6.11.1//NONSGML v1.0//EN
CALSCALE:GREGORIAN
METHOD:PUBLISH
X-ORIGINAL-URL:https://economic-alliance.com
X-WR-CALDESC:Events for The Economic Alliance
REFRESH-INTERVAL;VALUE=DURATION:PT1H
X-Robots-Tag:noindex
X-PUBLISHED-TTL:PT1H
BEGIN:VTIMEZONE
TZID:America/Los_Angeles
BEGIN:DAYLIGHT
TZOFFSETFROM:-0800
TZOFFSETTO:-0700
TZNAME:PDT
DTSTART:20260308T100000
END:DAYLIGHT
BEGIN:STANDARD
TZOFFSETFROM:-0700
TZOFFSETTO:-0800
TZNAME:PST
DTSTART:20261101T090000
END:STANDARD
END:VTIMEZONE
BEGIN:VEVENT
DTSTART;TZID=America/Los_Angeles:20260122T100000
DTEND;TZID=America/Los_Angeles:20260122T120000
DTSTAMP:20260424T081214
CREATED:20251218T054448Z
LAST-MODIFIED:20260105T065752Z
UID:8084-1769076000-1769083200@economic-alliance.com
SUMMARY:Content Calendar Creation
DESCRIPTION:Kick off the new year with clarity and confidence! In this interactive workshop\, Caroline Sancken will guide you step‑by‑step through building a practical three‑month content calendar. You’ll clarify your goals\, define your core content pillars\, and then build a plan that aligns with your message\, simplifies your workflow\, and keeps your posts consistent and stress‑free. \n  \nRegister Here
URL:https://economic-alliance.com/event/content-calendar-creation/
LOCATION:EA Office\, 238 E Oak\, Okanogan\, WA\, 98840
ATTACH;FMTTYPE=image/png:https://economic-alliance.com/wp-content/uploads/2025/12/Brown-Modern-Business-Conference-Free-Poster-Template.png
END:VEVENT
END:VCALENDAR