BEGIN:VCALENDAR
VERSION:2.0
PRODID:-//The Economic Alliance - ECPv6.11.1//NONSGML v1.0//EN
CALSCALE:GREGORIAN
METHOD:PUBLISH
X-ORIGINAL-URL:https://economic-alliance.com
X-WR-CALDESC:Events for The Economic Alliance
REFRESH-INTERVAL;VALUE=DURATION:PT1H
X-Robots-Tag:noindex
X-PUBLISHED-TTL:PT1H
BEGIN:VTIMEZONE
TZID:America/Los_Angeles
BEGIN:DAYLIGHT
TZOFFSETFROM:-0800
TZOFFSETTO:-0700
TZNAME:PDT
DTSTART:20250309T100000
END:DAYLIGHT
BEGIN:STANDARD
TZOFFSETFROM:-0700
TZOFFSETTO:-0800
TZNAME:PST
DTSTART:20251102T090000
END:STANDARD
END:VTIMEZONE
BEGIN:VEVENT
DTSTART;TZID=America/Los_Angeles:20251018T100000
DTEND;TZID=America/Los_Angeles:20251018T120000
DTSTAMP:20260424T122950
CREATED:20250914T185905Z
LAST-MODIFIED:20250914T185905Z
UID:7734-1760781600-1760788800@economic-alliance.com
SUMMARY:Cómo Fijar el de Precios de su Productos
DESCRIPTION:Aprende la estrategia de fajamiento de precios para tu producto. \nEstablecer los precios correctos para sus productos es un acto de equilibrio. Un precio bajo no siempre es ideal\, ya que el producto puede ver un flujo saludable de ventas sin obtener ninguna ganancia (y a todos nos gusta comer y pagar nuestras facturas\, ¿verdad?). Del mismo modo\, cuando un producto tiene un precio alto\, un minorista puede ver menos ventas y “poner precio” a los clientes más conscientes del presupuesto\, perdiendo posicionamiento en el mercado. Únase a nosotros y explore y examine ejemplos de estrategias de precios\, la psicología detrás de la fijación de precios\, así como el impacto en tu clientela cuando aprendes cómo fijar el precio de su producto. \nEn este taller aprenderás la estrategia para la fijación de precios para tu producto. \nRegístrese aquí
URL:https://economic-alliance.com/event/como-fijar-el-de-precios-de-su-productos/
LOCATION:EA Office\, 238 E Oak\, Okanogan\, WA\, 98840
ATTACH;FMTTYPE=image/png:https://economic-alliance.com/wp-content/uploads/2025/09/Spanish-price-class-e1757876259993.png
END:VEVENT
END:VCALENDAR