BEGIN:VCALENDAR
VERSION:2.0
PRODID:-//The Economic Alliance - ECPv6.11.1//NONSGML v1.0//EN
CALSCALE:GREGORIAN
METHOD:PUBLISH
X-WR-CALNAME:The Economic Alliance
X-ORIGINAL-URL:https://economic-alliance.com
X-WR-CALDESC:Events for The Economic Alliance
REFRESH-INTERVAL;VALUE=DURATION:PT1H
X-Robots-Tag:noindex
X-PUBLISHED-TTL:PT1H
BEGIN:VTIMEZONE
TZID:America/Los_Angeles
BEGIN:DAYLIGHT
TZOFFSETFROM:-0800
TZOFFSETTO:-0700
TZNAME:PDT
DTSTART:20250309T100000
END:DAYLIGHT
BEGIN:STANDARD
TZOFFSETFROM:-0700
TZOFFSETTO:-0800
TZNAME:PST
DTSTART:20251102T090000
END:STANDARD
END:VTIMEZONE
BEGIN:VEVENT
DTSTART;TZID=America/Los_Angeles:20251014T100000
DTEND;TZID=America/Los_Angeles:20251014T120000
DTSTAMP:20260424T122223
CREATED:20250914T172233Z
LAST-MODIFIED:20250914T183947Z
UID:7706-1760436000-1760443200@economic-alliance.com
SUMMARY:Growing Your Business Online
DESCRIPTION:Presented by Caroline Sancken \nBuild a strong foundation\, connect with your audience\, and create content that truly resonates. Learn how to boost visibility\, turn followers into customers\, and use AI tools to save time and stay focused. \n  \nRegister Now
URL:https://economic-alliance.com/event/growing-your-business-online/
LOCATION:EA Office\, 238 E Oak\, Okanogan\, WA\, 98840
ATTACH;FMTTYPE=image/png:https://economic-alliance.com/wp-content/uploads/2025/09/Growing-your-business-online-e1757873481319.png
END:VEVENT
END:VCALENDAR