BEGIN:VCALENDAR
VERSION:2.0
PRODID:-//The Economic Alliance - ECPv6.11.1//NONSGML v1.0//EN
CALSCALE:GREGORIAN
METHOD:PUBLISH
X-ORIGINAL-URL:https://economic-alliance.com
X-WR-CALDESC:Events for The Economic Alliance
REFRESH-INTERVAL;VALUE=DURATION:PT1H
X-Robots-Tag:noindex
X-PUBLISHED-TTL:PT1H
BEGIN:VTIMEZONE
TZID:America/Los_Angeles
BEGIN:DAYLIGHT
TZOFFSETFROM:-0800
TZOFFSETTO:-0700
TZNAME:PDT
DTSTART:20250309T100000
END:DAYLIGHT
BEGIN:STANDARD
TZOFFSETFROM:-0700
TZOFFSETTO:-0800
TZNAME:PST
DTSTART:20251102T090000
END:STANDARD
END:VTIMEZONE
BEGIN:VEVENT
DTSTART;TZID=America/Los_Angeles:20250917T173000
DTEND;TZID=America/Los_Angeles:20250917T193000
DTSTAMP:20260424T135402
CREATED:20250815T164625Z
LAST-MODIFIED:20250825T220219Z
UID:7649-1758130200-1758137400@economic-alliance.com
SUMMARY:Start Simple Business Course - Session 2: Tonasket
DESCRIPTION:Learn the fundamentals\, assess your idea\, and start planning with support in this free workshop. \nFor registration info\, click this link or scan the QR code on the flyer.
URL:https://economic-alliance.com/event/start-simple-business-course-session-2-tonasket/
LOCATION:Community Cultural Center\, 411 S Western Ave\, Tonasket\, 98855\, United States
ATTACH;FMTTYPE=image/png:https://economic-alliance.com/wp-content/uploads/2025/08/Start-Simple-Eng-flyer-update.png
END:VEVENT
END:VCALENDAR