BEGIN:VCALENDAR
VERSION:2.0
PRODID:-//The Economic Alliance - ECPv6.11.1//NONSGML v1.0//EN
CALSCALE:GREGORIAN
METHOD:PUBLISH
X-WR-CALNAME:The Economic Alliance
X-ORIGINAL-URL:https://economic-alliance.com
X-WR-CALDESC:Events for The Economic Alliance
REFRESH-INTERVAL;VALUE=DURATION:PT1H
X-Robots-Tag:noindex
X-PUBLISHED-TTL:PT1H
BEGIN:VTIMEZONE
TZID:America/Los_Angeles
BEGIN:DAYLIGHT
TZOFFSETFROM:-0800
TZOFFSETTO:-0700
TZNAME:PDT
DTSTART:20250309T100000
END:DAYLIGHT
BEGIN:STANDARD
TZOFFSETFROM:-0700
TZOFFSETTO:-0800
TZNAME:PST
DTSTART:20251102T090000
END:STANDARD
END:VTIMEZONE
BEGIN:VEVENT
DTSTART;TZID=America/Los_Angeles:20250903T173000
DTEND;TZID=America/Los_Angeles:20250903T193000
DTSTAMP:20260424T135357
CREATED:20250815T164339Z
LAST-MODIFIED:20250825T220120Z
UID:7636-1756920600-1756927800@economic-alliance.com
SUMMARY:Start Simple Business Course- Session 1: Tonasket
DESCRIPTION:Learn the fundamentals\, assess your idea\, and start planning with support in this free workshop. \nFor registration info\, click this link or scan the QR code on the flyer. \n 
URL:https://economic-alliance.com/event/start-simple-business-course-session-1-tonasket/
LOCATION:Community Cultural Center\, 411 S Western Ave\, Tonasket\, 98855\, United States
ATTACH;FMTTYPE=image/png:https://economic-alliance.com/wp-content/uploads/2025/08/Start-Simple-Eng-Print.png
END:VEVENT
END:VCALENDAR