BEGIN:VCALENDAR
VERSION:2.0
PRODID:-//The Economic Alliance - ECPv6.11.1//NONSGML v1.0//EN
CALSCALE:GREGORIAN
METHOD:PUBLISH
X-WR-CALNAME:The Economic Alliance
X-ORIGINAL-URL:https://economic-alliance.com
X-WR-CALDESC:Events for The Economic Alliance
REFRESH-INTERVAL;VALUE=DURATION:PT1H
X-Robots-Tag:noindex
X-PUBLISHED-TTL:PT1H
BEGIN:VTIMEZONE
TZID:America/Los_Angeles
BEGIN:DAYLIGHT
TZOFFSETFROM:-0800
TZOFFSETTO:-0700
TZNAME:PDT
DTSTART:20250309T100000
END:DAYLIGHT
BEGIN:STANDARD
TZOFFSETFROM:-0700
TZOFFSETTO:-0800
TZNAME:PST
DTSTART:20251102T090000
END:STANDARD
END:VTIMEZONE
BEGIN:VEVENT
DTSTART;TZID=America/Los_Angeles:20250522T100000
DTEND;TZID=America/Los_Angeles:20250522T120000
DTSTAMP:20260424T200512
CREATED:20250325T222502Z
LAST-MODIFIED:20250325T223632Z
UID:7579-1747908000-1747915200@economic-alliance.com
SUMMARY:Chamber Operations-Long Term Sucess
DESCRIPTION:What You’ll Learn: \n\nTransitioning from volunteer-led to paid staff.\nBudgeting and funding strategies for paid positions.\nStructuring roles for maximum impact.\nThe importance of waivers for business photos & media use.\nManaging finances\, tax compliance\, and goverance.\nEssential policies every chamber should have in place.\n\nJoin us for this short course with Rachelle Baughman of Coulee Creative Co. Offered at no cost. Class will be held May 22nd from 10am-12pm in the Economic Alliance office. \n\n\n\n\n\n\nRegister today at https://ow.ly/iKc050Voxik
URL:https://economic-alliance.com/event/chamber/
LOCATION:EA Office\, 238 E Oak\, Okanogan\, WA\, 98840
ATTACH;FMTTYPE=image/jpeg:https://economic-alliance.com/wp-content/uploads/2025/03/Chamber-Operations-and-Long-Term-Success.jpg
END:VEVENT
END:VCALENDAR