BEGIN:VCALENDAR
VERSION:2.0
PRODID:-//The Economic Alliance - ECPv6.11.1//NONSGML v1.0//EN
CALSCALE:GREGORIAN
METHOD:PUBLISH
X-WR-CALNAME:The Economic Alliance
X-ORIGINAL-URL:https://economic-alliance.com
X-WR-CALDESC:Events for The Economic Alliance
REFRESH-INTERVAL;VALUE=DURATION:PT1H
X-Robots-Tag:noindex
X-PUBLISHED-TTL:PT1H
BEGIN:VTIMEZONE
TZID:America/Los_Angeles
BEGIN:DAYLIGHT
TZOFFSETFROM:-0800
TZOFFSETTO:-0700
TZNAME:PDT
DTSTART:20250309T100000
END:DAYLIGHT
BEGIN:STANDARD
TZOFFSETFROM:-0700
TZOFFSETTO:-0800
TZNAME:PST
DTSTART:20251102T090000
END:STANDARD
END:VTIMEZONE
BEGIN:VEVENT
DTSTART;TZID=America/Los_Angeles:20250520T100000
DTEND;TZID=America/Los_Angeles:20250520T140000
DTSTAMP:20260424T200548
CREATED:20250326T155432Z
LAST-MODIFIED:20250505T160525Z
UID:7596-1747735200-1747749600@economic-alliance.com
SUMMARY:Navigating Cash Flow and Profitability
DESCRIPTION:What You’ll Learn: \n\nThe basics and purpose of cash flow.\nThe importance of and reasons for keeping good records.\nA brief overview of the process and requirements for financing a business.\n\nJoin us as we explain the basics and purpose of cashflow\, the importance of and reasons for keeping good records\, and a brief overview of the process and requirements for financing a business.\nFurthermore\, culturally relevant activities are done to show cash flow projections\, determining break-even\, and reconciling your bank statement. \n\n\n\n\n\n\nRegister today at https://form.jotform.com/rholderdiefenbach/navigating-cash-flow-amp-profitabil
URL:https://economic-alliance.com/event/navigating/
LOCATION:Omak Tribal Headstart\, 13 Siya Rd\, Omak\, Washington\, 98841
ATTACH;FMTTYPE=image/png:https://economic-alliance.com/wp-content/uploads/2025/03/05.20.25-NCFP-V3.png
END:VEVENT
END:VCALENDAR