BEGIN:VCALENDAR
VERSION:2.0
PRODID:-//The Economic Alliance - ECPv6.11.1//NONSGML v1.0//EN
CALSCALE:GREGORIAN
METHOD:PUBLISH
X-ORIGINAL-URL:https://economic-alliance.com
X-WR-CALDESC:Events for The Economic Alliance
REFRESH-INTERVAL;VALUE=DURATION:PT1H
X-Robots-Tag:noindex
X-PUBLISHED-TTL:PT1H
BEGIN:VTIMEZONE
TZID:America/Los_Angeles
BEGIN:DAYLIGHT
TZOFFSETFROM:-0800
TZOFFSETTO:-0700
TZNAME:PDT
DTSTART:20250309T100000
END:DAYLIGHT
BEGIN:STANDARD
TZOFFSETFROM:-0700
TZOFFSETTO:-0800
TZNAME:PST
DTSTART:20251102T090000
END:STANDARD
END:VTIMEZONE
BEGIN:VEVENT
DTSTART;TZID=America/Los_Angeles:20250515T100000
DTEND;TZID=America/Los_Angeles:20250515T140000
DTSTAMP:20260424T200620
CREATED:20250326T153530Z
LAST-MODIFIED:20250326T155623Z
UID:7595-1747303200-1747317600@economic-alliance.com
SUMMARY:Building Your Business Foundation
DESCRIPTION:What You’ll Learn: \n\nHow to register your business.\nUnderstand the market and industry insights.\nChoose the right business structure\, and more!\n\nJoin us for a small business training to help entrepreneurs learn how to register their business\, understand the market and industry insights\, choose the right business structure\, and more! \n\n\n\n\n\n\nRegister today at https://form.jotform.com/rholderdiefenbach/building-your-business-foundation-s
URL:https://economic-alliance.com/event/building/
LOCATION:Omak Tribal Headstart\, 13 Siya Rd\, Omak\, Washington\, 98841
ATTACH;FMTTYPE=image/png:https://economic-alliance.com/wp-content/uploads/2025/03/05.15.25-BYBF-5.png
END:VEVENT
END:VCALENDAR