BEGIN:VCALENDAR
VERSION:2.0
PRODID:-//The Economic Alliance - ECPv6.11.1//NONSGML v1.0//EN
CALSCALE:GREGORIAN
METHOD:PUBLISH
X-ORIGINAL-URL:https://economic-alliance.com
X-WR-CALDESC:Events for The Economic Alliance
REFRESH-INTERVAL;VALUE=DURATION:PT1H
X-Robots-Tag:noindex
X-PUBLISHED-TTL:PT1H
BEGIN:VTIMEZONE
TZID:America/Los_Angeles
BEGIN:DAYLIGHT
TZOFFSETFROM:-0800
TZOFFSETTO:-0700
TZNAME:PDT
DTSTART:20250309T100000
END:DAYLIGHT
BEGIN:STANDARD
TZOFFSETFROM:-0700
TZOFFSETTO:-0800
TZNAME:PST
DTSTART:20251102T090000
END:STANDARD
END:VTIMEZONE
BEGIN:VEVENT
DTSTART;TZID=America/Los_Angeles:20250506T100000
DTEND;TZID=America/Los_Angeles:20250506T120000
DTSTAMP:20260424T200622
CREATED:20250325T221355Z
LAST-MODIFIED:20250325T223720Z
UID:7573-1746525600-1746532800@economic-alliance.com
SUMMARY:Social Media Strategy for Small Businesses and Non-Profits
DESCRIPTION:This workshop is designed to help you build a strong\, strategic online presence—without the overwhelm. Whether you’re starting from scratch or looking to refine your approach\, you’ll walk away with a clear blueprint for success. \nJoin us for this short course with Caroline Sancken. Offered at no cost. Class will be held May 6th from 10am-12pm in the Economic Alliance office. \n\n\n\n\n\n\nRegister today at https://ow.ly/4Ynq50VouVp
URL:https://economic-alliance.com/event/social-media/
LOCATION:EA Office\, 238 E Oak\, Okanogan\, WA\, 98840
ATTACH;FMTTYPE=image/jpeg:https://economic-alliance.com/wp-content/uploads/2025/03/Social-Media-Strategy.jpg
END:VEVENT
END:VCALENDAR